BEGIN:VCALENDAR
VERSION:2.0
PRODID:-//Sikich - ECPv6.15.19//NONSGML v1.0//EN
CALSCALE:GREGORIAN
METHOD:PUBLISH
X-WR-CALNAME:Sikich
X-ORIGINAL-URL:https://www.sikich.com
X-WR-CALDESC:Events for Sikich
REFRESH-INTERVAL;VALUE=DURATION:PT1H
X-Robots-Tag:noindex
X-PUBLISHED-TTL:PT1H
BEGIN:VTIMEZONE
TZID:America/Chicago
BEGIN:DAYLIGHT
TZOFFSETFROM:-0600
TZOFFSETTO:-0500
TZNAME:CDT
DTSTART:20250309T080000
END:DAYLIGHT
BEGIN:STANDARD
TZOFFSETFROM:-0500
TZOFFSETTO:-0600
TZNAME:CST
DTSTART:20251102T070000
END:STANDARD
BEGIN:DAYLIGHT
TZOFFSETFROM:-0600
TZOFFSETTO:-0500
TZNAME:CDT
DTSTART:20260308T080000
END:DAYLIGHT
BEGIN:STANDARD
TZOFFSETFROM:-0500
TZOFFSETTO:-0600
TZNAME:CST
DTSTART:20261101T070000
END:STANDARD
BEGIN:DAYLIGHT
TZOFFSETFROM:-0600
TZOFFSETTO:-0500
TZNAME:CDT
DTSTART:20270314T080000
END:DAYLIGHT
BEGIN:STANDARD
TZOFFSETFROM:-0500
TZOFFSETTO:-0600
TZNAME:CST
DTSTART:20271107T070000
END:STANDARD
END:VTIMEZONE
BEGIN:VEVENT
DTSTART;VALUE=DATE:20260420
DTEND;VALUE=DATE:20260424
DTSTAMP:20260421T040417
CREATED:20260331T163502Z
LAST-MODIFIED:20260331T163502Z
UID:35904-1776643200-1776988799@www.sikich.com
SUMMARY:Unanet Champions Conference 2026
DESCRIPTION:Sikich is proud to be a sponsor\, exhibitor\, and speaker at the Unanet Champions Conference 2026\, taking place April 20–23 in San Diego. Our government services and risk consulting team members will be on-site\, sharing practical insights and connecting with organizations across the GovCon community and beyond. \nWe look forward to engaging with attendees\, exchanging ideas\, and contributing to conversations that help organizations operate more securely\, efficiently\, and effectively. \nRegister here
URL:https://www.sikich.com/event/unanet-champions-conference-2026/
LOCATION:Gaylord Pacific Resort & Convention Center\, 1000 H St\, Chula Vista\, CA\, 91910\, United States
CATEGORIES:Conferences & Trade,Government
END:VEVENT
BEGIN:VEVENT
DTSTART;VALUE=DATE:20260423
DTEND;VALUE=DATE:20260424
DTSTAMP:20260421T040417
CREATED:20260309T181247Z
LAST-MODIFIED:20260309T181247Z
UID:35435-1776902400-1776988799@www.sikich.com
SUMMARY:Delegated Authority Strategy Day - The Insurance Network
DESCRIPTION:This full-day insurance industry forum brings together leaders from syndicates\, MGAs\, coverholders and brokers to explore strategic priorities in the delegated authority market. \nOur Sikich team will attend and hear from senior decision makers across operations\, IT\, underwriting and claims on topics such as scaling operations\, driving efficiency with technology\, and using data and AI to inform decision-making. \nRegister here
URL:https://www.sikich.com/event/delegated-authority-strategy-day-the-insurance-network/
LOCATION:The Minister Building\, 21 Mincing Lane\, London\, EC3R 7AG\, United Kingdom
CATEGORIES:Conferences & Trade
END:VEVENT
BEGIN:VEVENT
DTSTART;VALUE=DATE:20260427
DTEND;VALUE=DATE:20260428
DTSTAMP:20260421T040417
CREATED:20260331T162555Z
LAST-MODIFIED:20260331T162555Z
UID:35901-1777248000-1777334399@www.sikich.com
SUMMARY:2026 IIA Chicago Annual Seminar
DESCRIPTION:Join our Risk leaders at the 65th Annual IIA Chicago Annual Seminar! We’re proud to be a sponsor and exhibitor\, and look forward to engaging with internal audit professionals\, exploring the latest trends in risk management\, and sharing strategies that strengthen governance. \nStop by our booth to meet our team and discuss how we can support your risk and governance goals. \nRegister here
URL:https://www.sikich.com/event/2026-iia-chicago-annual-seminar/
LOCATION:Donald E. Stephens Convention Center\, 5555 N. River Road\, Rosemont\, IL\, 60018\, United States
CATEGORIES:Conferences & Trade
END:VEVENT
BEGIN:VEVENT
DTSTART;VALUE=DATE:20260428
DTEND;VALUE=DATE:20260501
DTSTAMP:20260421T040417
CREATED:20260309T181617Z
LAST-MODIFIED:20260309T181617Z
UID:35439-1777334400-1777593599@www.sikich.com
SUMMARY:TMPAA 2026 Mid-Year Meeting
DESCRIPTION:We’re heading to Dallas for the Target Markets Mid-Year Meeting and will be exhibiting in the trade show at table #43. This event brings together program administrators\, carriers\, brokers and service providers for focused networking\, business development and practical industry dialogue centered on program business growth. \nOur Insurtech and Data/AI teams will be on site to connect with leaders who are looking to modernize operations\, strengthen delegated authority performance and activate smarter decision-making with data. Stop by our table to explore how technology\, automation and AI can streamline workflows\, improve visibility and position your program for scalable growth. \nWe look forward to the conversations and connections. \nRegister here
URL:https://www.sikich.com/event/tmpaa-2026-mid-year-meeting/
LOCATION:Hilton Anatole Dallas\, 2201 N. Stemmons Fwy\, Dallas\, TX\, 75207\, United States
CATEGORIES:Conferences & Trade
END:VEVENT
BEGIN:VEVENT
DTSTART;VALUE=DATE:20260428
DTEND;VALUE=DATE:20260501
DTSTAMP:20260421T040417
CREATED:20260309T182014Z
LAST-MODIFIED:20260309T182014Z
UID:35441-1777334400-1777593599@www.sikich.com
SUMMARY:ReSource Pro Summit 2026
DESCRIPTION:We’re proud to sponsor and attend the annual ReSource Pro Summit\, an event designed to bring together insurance leaders focused on innovation and growth. The Summit creates space for meaningful conversations around talent strategy\, process optimization\, data enablement and the evolving role of technology across the insurance value chain. \nOur Insurtech team will be on site to connect with carriers\, MGAs\, brokers and program leaders who are advancing modernization initiatives. Join us to explore practical strategies for increasing efficiency\, unlocking actionable insights and building scalable digital foundations that support long-term success. \nWe look forward to connecting throughout the event. \nRegister here
URL:https://www.sikich.com/event/resource-pro-summit-2026/
LOCATION:Renaissance Esmeralda Resort & Spa\, Palm Springs\, CA\, United States
CATEGORIES:Conferences & Trade
END:VEVENT
BEGIN:VEVENT
DTSTART;TZID=America/Chicago:20260429T120000
DTEND;TZID=America/Chicago:20260429T130000
DTSTAMP:20260421T040417
CREATED:20260324T142338Z
LAST-MODIFIED:20260324T142338Z
UID:35743-1777464000-1777467600@www.sikich.com
SUMMARY:When risk knows no bounds: Managing third-party exposure
DESCRIPTION:Organizations increasingly rely on third parties to operate and grow\, extending risk well beyond traditional vendor relationships. Global supply chains\, cloud platforms and AI-enabled tools have expanded the scope of third-party risk and have made oversight more complex. \n\n\nIn this webinar\, we’ll discuss how third-party risk is evolving and what audit\, risk and compliance teams need to focus on today\, including: \n\n\nKey risk areas such as cybersecurity\, data privacy and operational resilience\nWhere third-party risk programs commonly fall short\nPractical approaches to assessing controls\, monitoring risk and reporting findings\nHow audit and risk teams can adapt frameworks for cloud and AI-driven risk\n\nRegister here!
URL:https://www.sikich.com/event/when-risk-knows-no-bounds-managing-third-party-exposure/
LOCATION:PA
CATEGORIES:Technology,Webinar
END:VEVENT
BEGIN:VEVENT
DTSTART;TZID=America/Chicago:20260430T080000
DTEND;TZID=America/Chicago:20260430T090000
DTSTAMP:20260421T040417
CREATED:20260325T162218Z
LAST-MODIFIED:20260325T162218Z
UID:35798-1777536000-1777539600@www.sikich.com
SUMMARY:2026 global economic outlook: risks\, opportunities\, and what’s ahead
DESCRIPTION:Join us for a timely look at the economic and geopolitical forces shaping the global landscape in 2026. In this webinar\, guest speaker Michael Weidokal will discuss the current and future state of the economy\, what lies ahead\, and key risks and opportunities to prepare for – followed by a live Q&A. \nKey topics include: \n\nInsights and predictions on the 2026 economic environment\nStrategies to mitigate potential economic threats\nEmerging opportunities to position your organization for growth\n\nRegister here!
URL:https://www.sikich.com/event/2026-global-economic-outlook-risks-opportunities-and-whats-ahead/
LOCATION:PA
CATEGORIES:Accounting,Audit,Tax,Wealth Management,Webinar
END:VEVENT
BEGIN:VEVENT
DTSTART;TZID=America/Chicago:20260430T100000
DTEND;TZID=America/Chicago:20260430T110000
DTSTAMP:20260421T040417
CREATED:20260324T143150Z
LAST-MODIFIED:20260324T143150Z
UID:35747-1777543200-1777546800@www.sikich.com
SUMMARY:Sikich is the operating system for law firms
DESCRIPTION:Law firms are facing increasing pressure to improve productivity\, protect sensitive data\, build visibility and drive profitability\, yet many still rely on disconnected systems and ad hoc growth strategies that create inefficiencies and risk. This session will show how Sikich delivers a unified operating system built specifically for the way modern legal practices work.  \nWe’ll have experts from marketing\, accounting and technology joining us to address the critical pain points of modern legal practices.  \n\n\nIn this webinar\, you’ll learn:  \n\nHow a unified technology ecosystem boosts productivity and streamlines workflows\nWays to enhance cybersecurity with an integrated\, proactive approach\nHow connected data and CRM capabilities strengthen your pipeline\nKeys to moving beyond a rainmaker-driven model of growth\nThe impact of a cohesive operating system on firm-wide profitability\n\nYou’ll walk away with practical insights\, a clear modernization roadmap\, and a deeper understanding of how Sikich can help your firm operate smarter and more securely.  \nRegister here!
URL:https://www.sikich.com/event/sikich-is-the-operating-system-for-law-firms/
LOCATION:PA
CATEGORIES:Technology,Webinar
END:VEVENT
END:VCALENDAR