BEGIN:VCALENDAR
VERSION:2.0
PRODID:-//Sikich - ECPv6.15.19//NONSGML v1.0//EN
CALSCALE:GREGORIAN
METHOD:PUBLISH
X-WR-CALNAME:Sikich
X-ORIGINAL-URL:https://www.sikich.com
X-WR-CALDESC:Events for Sikich
REFRESH-INTERVAL;VALUE=DURATION:PT1H
X-Robots-Tag:noindex
X-PUBLISHED-TTL:PT1H
BEGIN:VTIMEZONE
TZID:America/Chicago
BEGIN:DAYLIGHT
TZOFFSETFROM:-0600
TZOFFSETTO:-0500
TZNAME:CDT
DTSTART:20250309T080000
END:DAYLIGHT
BEGIN:STANDARD
TZOFFSETFROM:-0500
TZOFFSETTO:-0600
TZNAME:CST
DTSTART:20251102T070000
END:STANDARD
BEGIN:DAYLIGHT
TZOFFSETFROM:-0600
TZOFFSETTO:-0500
TZNAME:CDT
DTSTART:20260308T080000
END:DAYLIGHT
BEGIN:STANDARD
TZOFFSETFROM:-0500
TZOFFSETTO:-0600
TZNAME:CST
DTSTART:20261101T070000
END:STANDARD
BEGIN:DAYLIGHT
TZOFFSETFROM:-0600
TZOFFSETTO:-0500
TZNAME:CDT
DTSTART:20270314T080000
END:DAYLIGHT
BEGIN:STANDARD
TZOFFSETFROM:-0500
TZOFFSETTO:-0600
TZNAME:CST
DTSTART:20271107T070000
END:STANDARD
END:VTIMEZONE
BEGIN:VEVENT
DTSTART;TZID=America/Chicago:20260107T120000
DTEND;TZID=America/Chicago:20260107T130000
DTSTAMP:20260421T163558
CREATED:20251204T173540Z
LAST-MODIFIED:20251204T173540Z
UID:31659-1767787200-1767790800@www.sikich.com
SUMMARY:Planning for 2026: market lessons from 2025
DESCRIPTION:As we turn the page to a new year\, many investors are taking a fresh look at the current and forecasted economic markets – and this session is designed to help you do just that. Join Sikich’s Wealth Management experts on Wednesday\, January 7 for a timely discussion featuring Phil Blancato\, Chief Market Strategist at Osaic.\n\nThis webinar will explore:\n\n\nCurrent market information relevant to personal investments\nKey lessons learned throughout 2025\nWhat those insights may mean for thoughtful planning as we look toward 2026\n\nDon’t miss this event and position yourself for a confident start to 2026.\n\n\nThis webinar is eligible for 1.0 CPE.\n\nRegister Here
URL:https://www.sikich.com/event/planning-for-2026-market-lessons-from-2025/
LOCATION:Virtual
CATEGORIES:Virtual,Webinar
END:VEVENT
BEGIN:VEVENT
DTSTART;VALUE=DATE:20260119
DTEND;VALUE=DATE:20260122
DTSTAMP:20260421T163558
CREATED:20260114T164644Z
LAST-MODIFIED:20260114T164644Z
UID:34273-1768780800-1769039999@www.sikich.com
SUMMARY:Associated Equipment Distributors Summit
DESCRIPTION:Join Sikich at the Associated Equipment Distributors (AED) Summit—the leading event for equipment distributors\, manufacturers\, and service providers. With over 800 companies participating\, this summit is a vital platform for industry leaders to connect\, collaborate\, and address today’s most pressing challenges. From navigating tariffs and right-to-repair legislation to overcoming supply chain disruptions and improving dealer performance\, the AED Summit is your opportunity to build relationships\, share insights\, and forge new partnerships. \nFor decades\, Sikich has helped manufacturers\, service organizations\, and asset-intensive businesses tackle their toughest challenges. Our team understands dealer management\, manufacturing\, distribution\, and supply chain operations inside and out. If you’re looking for a software partner who can simplify complex equipment operations and make day-to-day work easier\, we’d love to connect. To schedule time with Sikich during the AED Summit\, contact Scott Brennan at scott.brennan@sikich.com.
URL:https://www.sikich.com/event/associated-equipment-distributors-summit/
LOCATION:Hilton Anatole Dallas\, 2201 N. Stemmons Fwy\, Dallas\, TX\, 75207\, United States
CATEGORIES:Conferences & Trade,In Person,Industry,Manufacturing & Distribution
ATTACH;FMTTYPE=image/jpeg:https://www.sikich.com/wp-content/uploads/2026/01/AdobeStock_72502709-e1768409160491.jpeg
END:VEVENT
END:VCALENDAR