BEGIN:VCALENDAR
VERSION:2.0
PRODID:-//Sikich - ECPv6.15.19//NONSGML v1.0//EN
CALSCALE:GREGORIAN
METHOD:PUBLISH
X-WR-CALNAME:Sikich
X-ORIGINAL-URL:https://www.sikich.com
X-WR-CALDESC:Events for Sikich
REFRESH-INTERVAL;VALUE=DURATION:PT1H
X-Robots-Tag:noindex
X-PUBLISHED-TTL:PT1H
BEGIN:VTIMEZONE
TZID:America/Chicago
BEGIN:DAYLIGHT
TZOFFSETFROM:-0600
TZOFFSETTO:-0500
TZNAME:CDT
DTSTART:20240310T080000
END:DAYLIGHT
BEGIN:STANDARD
TZOFFSETFROM:-0500
TZOFFSETTO:-0600
TZNAME:CST
DTSTART:20241103T070000
END:STANDARD
BEGIN:DAYLIGHT
TZOFFSETFROM:-0600
TZOFFSETTO:-0500
TZNAME:CDT
DTSTART:20250309T080000
END:DAYLIGHT
BEGIN:STANDARD
TZOFFSETFROM:-0500
TZOFFSETTO:-0600
TZNAME:CST
DTSTART:20251102T070000
END:STANDARD
BEGIN:DAYLIGHT
TZOFFSETFROM:-0600
TZOFFSETTO:-0500
TZNAME:CDT
DTSTART:20260308T080000
END:DAYLIGHT
BEGIN:STANDARD
TZOFFSETFROM:-0500
TZOFFSETTO:-0600
TZNAME:CST
DTSTART:20261101T070000
END:STANDARD
END:VTIMEZONE
BEGIN:VTIMEZONE
TZID:America/New_York
BEGIN:DAYLIGHT
TZOFFSETFROM:-0500
TZOFFSETTO:-0400
TZNAME:EDT
DTSTART:20240310T070000
END:DAYLIGHT
BEGIN:STANDARD
TZOFFSETFROM:-0400
TZOFFSETTO:-0500
TZNAME:EST
DTSTART:20241103T060000
END:STANDARD
BEGIN:DAYLIGHT
TZOFFSETFROM:-0500
TZOFFSETTO:-0400
TZNAME:EDT
DTSTART:20250309T070000
END:DAYLIGHT
BEGIN:STANDARD
TZOFFSETFROM:-0400
TZOFFSETTO:-0500
TZNAME:EST
DTSTART:20251102T060000
END:STANDARD
BEGIN:DAYLIGHT
TZOFFSETFROM:-0500
TZOFFSETTO:-0400
TZNAME:EDT
DTSTART:20260308T070000
END:DAYLIGHT
BEGIN:STANDARD
TZOFFSETFROM:-0400
TZOFFSETTO:-0500
TZNAME:EST
DTSTART:20261101T060000
END:STANDARD
END:VTIMEZONE
BEGIN:VEVENT
DTSTART;TZID=America/Chicago:20250611T080000
DTEND;TZID=America/Chicago:20250611T090000
DTSTAMP:20260422T042621
CREATED:20250520T202708Z
LAST-MODIFIED:20250520T203335Z
UID:29265-1749628800-1749632400@www.sikich.com
SUMMARY:Summer 2025 Tax Legislation Update: What's Ahead for Individuals\, Businesses and Not-For-Profits
DESCRIPTION:Join Sikich tax experts for a timely webinar providing the latest insights on the comprehensive tax legislation currently advancing through Congress. This session will cover key updates from both the House and Senate as the bill progresses\, with a focus on new tax proposals as well as tax provisions from the Tax Cuts and Jobs Act of 2017 (TCJA) that are set to expire at the end of the year. \nKey topics will include: \n\nCurrent status\, next steps and prospects for passage of tax legislation in Congress\nOverview of TCJA provisions likely to be extended – or allowed to expire\nCampaign themes from the 2024 political cycle that will possibly shape the bill\nPotential additional provisions and proposed offsets (“pay-fors”)\nProposed impact on tax-exempt organizations\n\nThis webinar is eligible for 1.0 CPE. \nREGISTER HERE >>
URL:https://www.sikich.com/event/summer-2025-tax-legislation-update-whats-ahead/
LOCATION:Virtual
CATEGORIES:Tax,Virtual,Webinar
ATTACH;FMTTYPE=image/jpeg:https://www.sikich.com/wp-content/uploads/2024/02/Latest-Tax-Developments-from-Washington-Webinar-Image-01.jpg
END:VEVENT
BEGIN:VEVENT
DTSTART;TZID=America/Chicago:20250612T100000
DTEND;TZID=America/Chicago:20250612T120000
DTSTAMP:20260422T042621
CREATED:20250508T183240Z
LAST-MODIFIED:20250508T183240Z
UID:29039-1749722400-1749729600@www.sikich.com
SUMMARY:Transforming Risk Into Opportunity
DESCRIPTION:Join Sikich for an engaging and practical webinar\, “Transforming Risk into Opportunity\,” where we’ll explore how forward-looking organizations are turning compliance\, cybersecurity\, and enterprise risk management into engines of growth and competitive differentiation. \nWhether you’re a CIO\, compliance lead\, or executive decision-maker\, join us on Thursday\, June 12th at 10am CT/11am ET to learn actionable strategies to turn risk into resilience—and compliance into a competitive advantage. \nTurn Risk into Resilience\nThrough real-world case studies and expert insights\, you’ll discover:\n\n\nWhy faster time to compliance gives companies a strategic edge\nHow to move from reactive to proactive risk management\nWhat tools—like AI-driven assessments\, Governance Frameworks\, and strategic dashboards—can do to accelerate your compliance journey\nA step-by-step framework for identifying risk\, aligning leadership\, and driving measurable business impact\n\nRegister Today!
URL:https://www.sikich.com/event/transforming-risk-into-opportunity/
LOCATION:PA
CATEGORIES:Technology,Webinar
ATTACH;FMTTYPE=image/jpeg:https://www.sikich.com/wp-content/uploads/2025/05/CMMCwebinar.jpg
END:VEVENT
BEGIN:VEVENT
DTSTART;TZID=America/Chicago:20250617T120000
DTEND;TZID=America/Chicago:20250617T130000
DTSTAMP:20260422T042621
CREATED:20250502T165620Z
LAST-MODIFIED:20250505T190658Z
UID:28914-1750161600-1750165200@www.sikich.com
SUMMARY:Building a Dream Team: Managing Through Uncertainty and Change
DESCRIPTION:Teams are navigating a world that feels heavier than ever. From layoffs and economic shifts to the rapid pace of technological disruption\, the pressure on today’s workforce is undeniable. Anxiety\, burnout and low morale are on the rise across industries. People are feeling uncertain – about their roles\, the future and the direction of their organizations. \nIn this session\, we’ll share practical strategies to help you: \n\nLead people through change in a way that strengthens them\nGuide HR and Talent Acquisition teams through ambiguity\nAdapt recruitment strategies to shifting business priorities\nMeasure success in a constantly changing environment\n\nWhether you’re an HR leader\, executive or people manager\, this conversation is for you. Because building a dream team isn’t about waiting for perfect conditions – it’s about creating strength and alignment in the most imperfect ones. \n\nThis webinar is eligible for 1.0 HRCI or 1.0 CPE. \n\nREGISTER HERE >>
URL:https://www.sikich.com/event/building-a-dream-team-managing-through-uncertainty-and-change/
LOCATION:Virtual
CATEGORIES:Human Resources,Virtual,Webinar
ATTACH;FMTTYPE=image/png:https://www.sikich.com/wp-content/uploads/2024/03/Events-2-Dream-Team.png
END:VEVENT
BEGIN:VEVENT
DTSTART;TZID=America/New_York:20250617T150000
DTEND;TZID=America/New_York:20250617T160000
DTSTAMP:20260422T042621
CREATED:20250604T151501Z
LAST-MODIFIED:20250604T151501Z
UID:29465-1750172400-1750176000@www.sikich.com
SUMMARY:Microsoft Business Applications Presents: Delivering Impact With Sikich Economic Development Accelerator Webinar
DESCRIPTION:Economic Development Organizations (EDOs) are essential to driving business growth and community success—but many still rely on outdated tools. Join us to learn how the Sikich Economic Development Accelerator\, built on Microsoft Dynamics 365\, helps EDOs modernize operations\, improve stakeholder engagement\, and deliver measurable outcomes. \nJoin us on Tuesday\, June 17th at 12 PT/3 ET\, where we will highlight: \n\nThe top 12 benefits of adopting the Sikich EDO CRM solution\nHow EDOs streamline programs\, expand their reach\, and work more efficiently\nA demo of the solution\nA real-world case study of how Sikich transformed operations for the City of Austin\n\nIf you’re part of a government agency\, chamber\, or nonprofit EDO\, this is your chance to see how technology can power your mission forward. \nSikich Speakers: Heidi Bamburg and Anthony Senevey \nRegister Here!
URL:https://www.sikich.com/event/microsoft-business-applications-presents-delivering-impact-with-sikich-economic-development-accelerator-webinar/
LOCATION:PA
CATEGORIES:Government,Technology,Webinar
END:VEVENT
BEGIN:VEVENT
DTSTART;TZID=America/Chicago:20250618T120000
DTEND;TZID=America/Chicago:20250618T130000
DTSTAMP:20260422T042621
CREATED:20250217T192915Z
LAST-MODIFIED:20250217T192952Z
UID:27438-1750248000-1750251600@www.sikich.com
SUMMARY:2025 Yellowbook Webinar Series: Session 5 - Fund Balance/Net Position Accounting and Reporting
DESCRIPTION:Join our Sikich experts as they delve deep into the essential principles of governmental fund balance accounting and reporting. This session will provide a detailed overview of fund classifications and accounting for restricted\, committed and assigned fund balances. \nThis webinar is eligible for 1.0 CPE.  \nRegister >>
URL:https://www.sikich.com/event/2025-yellowbook-webinar-series-session-5-fund-balance-net-position-accounting-and-reporting/
LOCATION:Virtual
CATEGORIES:Accounting,Government,Virtual,Webinar
END:VEVENT
BEGIN:VEVENT
DTSTART;VALUE=DATE:20250630
DTEND;VALUE=DATE:20250702
DTSTAMP:20260422T042621
CREATED:20250519T141147Z
LAST-MODIFIED:20250519T142443Z
UID:29227-1751241600-1751414399@www.sikich.com
SUMMARY:Webinar Series: Workplace Violence Prevention - From Awareness to Action
DESCRIPTION:Workplace violence affects over two million workers each year. Prevention isn’t optional – it’s urgent. This two-day webinar series will give you the knowledge\, tools\, and expert guidance to recognize threats\, respond effectively\, and protect your people.\n\nLed by a former U.S. Secret Service threat expert and a national domestic violence advocate\, these sessions combine powerful stories with practical strategies you can use immediately. \n\n\nWho Should Attend? \n\nThis series is built for:\n\n\nHR professionals managing risk and policy\nCEOs and business leaders focused on safety and culture\nSecurity and operations teams enhancing threat protocols\nAnyone responsible for employee well-being\n\nIf you’re ready to level up your prevention strategy\, start here. \n\n\n\nThese webinars are eligible for a total of 4.0 CPE and 4.0 HRCI. \n\nREGISTER HERE >>
URL:https://www.sikich.com/event/webinar-series-workplace-violence-prevention-from-awareness-to-action/
LOCATION:Virtual
CATEGORIES:Virtual,Webinar,Workforce Risk Management
END:VEVENT
END:VCALENDAR