BEGIN:VCALENDAR
VERSION:2.0
PRODID:-//Sikich - ECPv6.15.19//NONSGML v1.0//EN
CALSCALE:GREGORIAN
METHOD:PUBLISH
X-WR-CALNAME:Sikich
X-ORIGINAL-URL:https://www.sikich.com
X-WR-CALDESC:Events for Sikich
REFRESH-INTERVAL;VALUE=DURATION:PT1H
X-Robots-Tag:noindex
X-PUBLISHED-TTL:PT1H
BEGIN:VTIMEZONE
TZID:America/Chicago
BEGIN:DAYLIGHT
TZOFFSETFROM:-0600
TZOFFSETTO:-0500
TZNAME:CDT
DTSTART:20240310T080000
END:DAYLIGHT
BEGIN:STANDARD
TZOFFSETFROM:-0500
TZOFFSETTO:-0600
TZNAME:CST
DTSTART:20241103T070000
END:STANDARD
BEGIN:DAYLIGHT
TZOFFSETFROM:-0600
TZOFFSETTO:-0500
TZNAME:CDT
DTSTART:20250309T080000
END:DAYLIGHT
BEGIN:STANDARD
TZOFFSETFROM:-0500
TZOFFSETTO:-0600
TZNAME:CST
DTSTART:20251102T070000
END:STANDARD
BEGIN:DAYLIGHT
TZOFFSETFROM:-0600
TZOFFSETTO:-0500
TZNAME:CDT
DTSTART:20260308T080000
END:DAYLIGHT
BEGIN:STANDARD
TZOFFSETFROM:-0500
TZOFFSETTO:-0600
TZNAME:CST
DTSTART:20261101T070000
END:STANDARD
END:VTIMEZONE
BEGIN:VEVENT
DTSTART;VALUE=DATE:20250204
DTEND;VALUE=DATE:20250207
DTSTAMP:20260422T025332
CREATED:20241107T162817Z
LAST-MODIFIED:20241107T162817Z
UID:25660-1738627200-1738886399@www.sikich.com
SUMMARY:2025 Higher Education Forum
DESCRIPTION:Sikich’s leading team of experts hosts an annual three-day virtual higher education form around topics of high relevance within the industry. Professionals gather to discuss and explore emerging trends and critical updates\, ensuring viewers stay at the forefront of the field. \nLearn more by visiting our event’s landing page here.
URL:https://www.sikich.com/event/2025-higher-education-forum/
LOCATION:Virtual
END:VEVENT
BEGIN:VEVENT
DTSTART;TZID=America/Chicago:20250205T130000
DTEND;TZID=America/Chicago:20250205T134500
DTSTAMP:20260422T025332
CREATED:20250124T205302Z
LAST-MODIFIED:20250124T205302Z
UID:27039-1738760400-1738763100@www.sikich.com
SUMMARY:Salesforce Spring '25: Your Guide to Key Updates and Release Strategy Essentials
DESCRIPTION:In this session\, we’ll explore the latest updates and enhancements coming in the Salesforce Spring ’25 Release. Our Salesforce Certified experts will provide guidance to ensure a smooth transition and maximize the value of your Salesforce investment. \nAttendees will be part of a live\, interactive discussion\, including: \n\nAn overview of key features\nDemos showcasing how enhancements can be leveraged to optimize your CRM strategy\nGuidance on how to effectively integrate the updates into your existing systems and workflows\n\nWhether you’re a Salesforce admin\, developer\, or business leader\, this webinar will equip you with the knowledge and strategies needed to navigate the Spring ’25 release with confidence and efficiency. \nRegister Today
URL:https://www.sikich.com/event/salesforce-spring-25-your-guide-to-key-updates-and-release-strategy-essentials/
LOCATION:PA
CATEGORIES:Technology,Webinar
ATTACH;FMTTYPE=image/jpeg:https://www.sikich.com/wp-content/uploads/2024/02/FSCspring21.jpg
END:VEVENT
BEGIN:VEVENT
DTSTART;TZID=America/Chicago:20250212T120000
DTEND;TZID=America/Chicago:20250212T130000
DTSTAMP:20260422T025332
CREATED:20241218T202406Z
LAST-MODIFIED:20241218T202519Z
UID:26372-1739361600-1739365200@www.sikich.com
SUMMARY:Roses are Red\, Audits are Due: Strategies for Employee Benefit Plan Audit Filing Success
DESCRIPTION:A lack of documented and implemented processes and controls surrounding payroll and other plan administration practices is leading to a range of errors and compliance issues within employee benefit plans. Payroll fraud schemes are among the most common forms of occupational fraud worldwide\, according to the Association of Certified Fraud Examiners (ACFE). These challenges result in significant risks including costly penalties and operational inefficiencies. For enhanced accuracy\, efficiency and compliance within employee benefit plans\, Artificial Intelligence (AI) offers solutions and is reshaping how organizations approach these audits. \nJoin our webinar\, where our employee benefit plan experts will discuss these transformative technologies\, what to anticipate in your 2024 plan year audit and how to establish stronger controls over your payroll and other plan procedures. We’ll cover: \n\nThe role of AI in employee benefit plan audits\nProcesses and controls to reduce errors in payroll processing and contribution remittances\nSECURE 2.0 and potential implementation pitfalls\nStrategies for an effective and efficient audit process\n\nThis webinar is eligible for 1.0 CPE.  \nREGISTER NOW
URL:https://www.sikich.com/event/roses-are-red-audits-are-due-strategies-for-employee-benefit-plan-audit-filing-success/
LOCATION:Virtual
CATEGORIES:Webinar
END:VEVENT
BEGIN:VEVENT
DTSTART;TZID=America/Chicago:20250219T120000
DTEND;TZID=America/Chicago:20250219T130000
DTSTAMP:20260422T025332
CREATED:20250212T182544Z
LAST-MODIFIED:20250212T183101Z
UID:25161-1739966400-1739970000@www.sikich.com
SUMMARY:2025 Yellowbook Webinar Series: Session 1 - Single Audit Updates and Refreshers
DESCRIPTION:There are changes coming to the Single Audit process. This session is an opportunity to: \n\nLearn about the changes to the Single Audit thresholds\nRefresh your understanding about what a Single Audit is\, and:\n\nWhat it covers\nWhat you need to do to prepare if your entity needs one\n\n\n\nThis webinar is eligible for 1.0 CPE. \nRegister 
URL:https://www.sikich.com/event/2025-yellowbook-webinar-series-session-1-single-audit-updates-and-refreshers/
LOCATION:PA
CATEGORIES:Accounting,Government,Virtual,Webinar
END:VEVENT
BEGIN:VEVENT
DTSTART;TZID=America/Chicago:20250227T080000
DTEND;TZID=America/Chicago:20250227T090000
DTSTAMP:20260422T025332
CREATED:20250207T160723Z
LAST-MODIFIED:20250207T160723Z
UID:27216-1740643200-1740646800@www.sikich.com
SUMMARY:Navigating Possible Tax Legislation and IRS Updates
DESCRIPTION:Join Sikich tax experts for an insightful session about the latest on proposed tax legislation in Washington regarding the extension of the tax cuts under the Tax Cuts and jobs Act (TCJA)\, as well as other proposals that could impact businesses and individuals. Our session will also cover key updates and recent court cases to help you stay informed and prepared. \nKey topics will include: \n\nThe status and outlook of tax legislation in Congress on expiring income and estate tax provisions from the TCJA\nUpdates on new tax proposals introduced during the 2024 presidential campaign\nRecent IRS developments\, regulatory changes and court rulings impacting taxpayers\n\nThis webinar is eligible for 1.0 CPE.  \nREGISTER NOW
URL:https://www.sikich.com/event/navigating-possible-tax-legislation-and-irs-updates/
LOCATION:Virtual
CATEGORIES:Tax,Virtual,Webinar
END:VEVENT
END:VCALENDAR