BEGIN:VCALENDAR
VERSION:2.0
PRODID:-//Sikich - ECPv6.15.19//NONSGML v1.0//EN
CALSCALE:GREGORIAN
METHOD:PUBLISH
X-ORIGINAL-URL:https://www.sikich.com
X-WR-CALDESC:Events for Sikich
REFRESH-INTERVAL;VALUE=DURATION:PT1H
X-Robots-Tag:noindex
X-PUBLISHED-TTL:PT1H
BEGIN:VTIMEZONE
TZID:America/Chicago
BEGIN:DAYLIGHT
TZOFFSETFROM:-0600
TZOFFSETTO:-0500
TZNAME:CDT
DTSTART:20230312T080000
END:DAYLIGHT
BEGIN:STANDARD
TZOFFSETFROM:-0500
TZOFFSETTO:-0600
TZNAME:CST
DTSTART:20231105T070000
END:STANDARD
BEGIN:DAYLIGHT
TZOFFSETFROM:-0600
TZOFFSETTO:-0500
TZNAME:CDT
DTSTART:20240310T080000
END:DAYLIGHT
BEGIN:STANDARD
TZOFFSETFROM:-0500
TZOFFSETTO:-0600
TZNAME:CST
DTSTART:20241103T070000
END:STANDARD
BEGIN:DAYLIGHT
TZOFFSETFROM:-0600
TZOFFSETTO:-0500
TZNAME:CDT
DTSTART:20250309T080000
END:DAYLIGHT
BEGIN:STANDARD
TZOFFSETFROM:-0500
TZOFFSETTO:-0600
TZNAME:CST
DTSTART:20251102T070000
END:STANDARD
END:VTIMEZONE
BEGIN:VEVENT
DTSTART;TZID=America/Chicago:20241203T123000
DTEND;TZID=America/Chicago:20241203T133000
DTSTAMP:20260421T120951
CREATED:20241112T202635Z
LAST-MODIFIED:20241112T202635Z
UID:25778-1733229000-1733232600@www.sikich.com
SUMMARY:Salesforce + AI: Leveraging Agentforce for Smarter Customer Service
DESCRIPTION:Are you ready to transform your customer service strategy with the latest AI innovations? Join us for an exclusive virtual lunch and learn to discover the full potential of Salesforce’s Agentforce. \nAt this event\, we’ll discuss how AI-driven tools are reshaping the customer service landscape across industries. Our Salesforce Certified AI experts will go beyond surface-level features to explore Agentforce’s powerful functionality in depth\, including: \n\nAutomation capabilities\nAdvanced data insights\nTailored customer service solutions\n\nThrough a live demonstration\, we’ll walk you through real-world scenarios\, showcasing exactly how Agentforce can optimize your team’s workflows\, enhance predictive service capabilities\, and personalize the customer experience like never before. \nAttendees will leave with actionable insights and practical knowledge on how to implement AI to improve service efficiency\, reduce response times\, and anticipate customer needs. Additionally\, you’ll have the opportunity to engage directly with our Salesforce experts\, ask questions\, and discuss how these tools can be adapted to meet the unique challenges of your industry. \nLimited Spots Available\nSpots are limited\, so don’t miss out on this chance to connect with peers\, explore Agentforce’s groundbreaking features\, and gain the expertise needed to drive smarter\, AI-powered customer service within your organization. Reserve your spot today! \nWho Should Attend?\nThis event is perfect for those in customer service leadership roles and individuals who build and maintain an organization’s Salesforce org. Best-fit roles include\, but are not limited to: \n\nCustomer Success Leaders\nTechnical Support Engineers\nCustomer Experience Managers\nSales Operations Managers\nSalesforce Developers\nData Scientists
URL:https://www.sikich.com/event/salesforce-ai-leveraging-agentforce-for-smarter-customer-service/
LOCATION:Virtual
CATEGORIES:Technology,Virtual
ATTACH;FMTTYPE=image/jpeg:https://www.sikich.com/wp-content/uploads/2024/11/SalesforcedataAI.jpg
END:VEVENT
BEGIN:VEVENT
DTSTART;TZID=America/Chicago:20241211T120000
DTEND;TZID=America/Chicago:20241211T130000
DTSTAMP:20260421T120951
CREATED:20241122T142203Z
LAST-MODIFIED:20241122T142915Z
UID:25952-1733918400-1733922000@www.sikich.com
SUMMARY:2024 Yellowbook Webinar Series: Latest GASB Updates
DESCRIPTION:Join us for the final installment of our 2024 Yellowbook Webinar Series! \nIn this session\, Sikich’s government finance experts will cover recently issued and upcoming pronouncements from the Governmental Accounting Standards Board (GASB). We will: \n\nDiscuss the impact and review practical examples of:\n\nGASB Statement No. 101\, Compensated Absences\, and\nGASB Statement No. 102\, Certain Risk Disclosures\n\n\nInterpret the Newest GASB Statements\, 103 and 104\n\nThis event is an intermediate level training geared towards finance roles in the government industry. \nThis webinar is eligible for 1.0 CPE credit. \nREGISTER NOW >>>\n 
URL:https://www.sikich.com/event/2024-yellowbook-webinar-series-latest-gasb-updates/
LOCATION:Virtual
END:VEVENT
BEGIN:VEVENT
DTSTART;TZID=America/Chicago:20241212T120000
DTEND;TZID=America/Chicago:20241212T130000
DTSTAMP:20260421T120951
CREATED:20241125T204316Z
LAST-MODIFIED:20241125T204356Z
UID:25973-1734004800-1734008400@www.sikich.com
SUMMARY:Renewable Energy Tax Credits Made Simple for Not-For-Profits
DESCRIPTION:Not-for-profit organizations have a unique opportunity to benefit from the Inflation Reduction Act of 2022 (IRA). This legislation was designed to make renewable energy projects more affordable and accelerate the transition to a low-carbon future. \nJoin our webinar on December 12\, where not-for-profit experts from Sikich and Tri-Merit will explore renewable energy tax credits and how they can benefit your organization. We’ll discuss: \n\nThe benefits of renewable energy tax credits for not-for-profit organizations.\nThe eligibility requirements and compliance procedures.\nThe direct pay option under the IRA.\nGuidance on how to apply for and maximize your eligible credits.\nAccounting considerations\, including recognition and disclosure.\n\nThe webinar is eligible for 1.0 CPE. \nREGISTER NOW >>>
URL:https://www.sikich.com/event/renewable-energy-tax-credits-made-simple-for-not-for-profits/
LOCATION:Virtual
CATEGORIES:Not-For-Profit,Virtual,Webinar
END:VEVENT
END:VCALENDAR