BEGIN:VCALENDAR
VERSION:2.0
PRODID:-//Sikich - ECPv6.15.19//NONSGML v1.0//EN
CALSCALE:GREGORIAN
METHOD:PUBLISH
X-WR-CALNAME:Sikich
X-ORIGINAL-URL:https://www.sikich.com
X-WR-CALDESC:Events for Sikich
REFRESH-INTERVAL;VALUE=DURATION:PT1H
X-Robots-Tag:noindex
X-PUBLISHED-TTL:PT1H
BEGIN:VTIMEZONE
TZID:America/Chicago
BEGIN:DAYLIGHT
TZOFFSETFROM:-0600
TZOFFSETTO:-0500
TZNAME:CDT
DTSTART:20230312T080000
END:DAYLIGHT
BEGIN:STANDARD
TZOFFSETFROM:-0500
TZOFFSETTO:-0600
TZNAME:CST
DTSTART:20231105T070000
END:STANDARD
BEGIN:DAYLIGHT
TZOFFSETFROM:-0600
TZOFFSETTO:-0500
TZNAME:CDT
DTSTART:20240310T080000
END:DAYLIGHT
BEGIN:STANDARD
TZOFFSETFROM:-0500
TZOFFSETTO:-0600
TZNAME:CST
DTSTART:20241103T070000
END:STANDARD
BEGIN:DAYLIGHT
TZOFFSETFROM:-0600
TZOFFSETTO:-0500
TZNAME:CDT
DTSTART:20250309T080000
END:DAYLIGHT
BEGIN:STANDARD
TZOFFSETFROM:-0500
TZOFFSETTO:-0600
TZNAME:CST
DTSTART:20251102T070000
END:STANDARD
END:VTIMEZONE
BEGIN:VEVENT
DTSTART;TZID=America/Chicago:20241106T080000
DTEND;TZID=America/Chicago:20241106T090000
DTSTAMP:20260421T102646
CREATED:20241014T211502Z
LAST-MODIFIED:20241015T165556Z
UID:25113-1730880000-1730883600@www.sikich.com
SUMMARY:Manufacturers vs. Hackers: Tackling Cybersecurity Threats
DESCRIPTION:As manufacturers adopt emerging technologies like generative AI\, they face new vulnerabilities. Cyber criminals are leveraging these systems to develop increasingly sophisticated methods to infiltrate systems.\n\nJoin Sikich cybersecurity experts on November 6 as they cover essential insights for manufacturing and distribution executives. Key topics will include:\n\n\nWhy the manufacturing industry remains a top target for cyber attacks\nAdvanced tactics and trends for cyber criminals\nPractical\, preventative measures to protect your business\nSteps your company can take to mitigate risk\n\nThis webinar is eligible for 1.0 CPE credit. \nREGISTER NOW >>
URL:https://www.sikich.com/event/manufacturers-vs-hackers-tackling-cybersecurity-threats/
LOCATION:Virtual
END:VEVENT
BEGIN:VEVENT
DTSTART;TZID=America/Chicago:20241113T113000
DTEND;TZID=America/Chicago:20241113T130000
DTSTAMP:20260421T102646
CREATED:20240920T143341Z
LAST-MODIFIED:20240920T143341Z
UID:24780-1731497400-1731502800@www.sikich.com
SUMMARY:You've Been Breached Lunch And Learn
DESCRIPTION:We are excited to invite you to our upcoming lunch and learn\, “You’ve Been Breached: An Interactive Incident Response Simulation.” This interactive simulation will engage the audience and task them with navigating the many challenges associated with suffering a security incident that results in a major data breach. \nJoin us on November 13\, 2024 at 11:30 am ET for a complimentary lunch and a simulation that will educate\, challenge\, and intrigue the audience. RSVP today\, because seating is limited! \nRegister now!
URL:https://www.sikich.com/event/youve-been-breached-lunch-and-learn-11-13-2024/
LOCATION:Maggiano’s Little Italy\, 240 Oakbrook Ctr\, Oak Brook\, IL\, 60523\, United States
CATEGORIES:In Person,Live
END:VEVENT
BEGIN:VEVENT
DTSTART;TZID=America/Chicago:20241114T080000
DTEND;TZID=America/Chicago:20241114T090000
DTSTAMP:20260421T102646
CREATED:20241101T190530Z
LAST-MODIFIED:20241108T150752Z
UID:25535-1731571200-1731574800@www.sikich.com
SUMMARY:2024 Election Insights\, 2025 Tax Policy Outlook and Year-End Tax Planning
DESCRIPTION:Now that the 2024 presidential election results are in\, potential tax policy changes are top of mind for businesses and individuals. Join our webinar on Thursday\, November 14\, to explore how the election may impact 2025 tax policies and learn what you can do now to prepare.\n\nSikich’s tax experts will analyze potential shifts based on the outcome of the election and share practical year-end tax planning strategies. We will:\n\n\nEvaluate potential tax policy changes depending on the expected makeup of Congress and the White House in 2025\nDiscuss the Tax Cuts and Jobs Act (TCJA) provisions enacted in 2017 under former President Trump and scheduled to sunset in 2025\nProvide year-end tax planning advice for both businesses and individuals\n\n\nThis webinar is eligible for 1.0 CPE credit. \n\nREGISTER NOW >>>
URL:https://www.sikich.com/event/2024-election-insights-2025-tax-policy-outlook-and-year-end-tax-planning/
LOCATION:Virtual
CATEGORIES:Tax
END:VEVENT
BEGIN:VEVENT
DTSTART;TZID=America/Chicago:20241120T120000
DTEND;TZID=America/Chicago:20241120T130000
DTSTAMP:20260421T102646
CREATED:20241014T190800Z
LAST-MODIFIED:20241017T201727Z
UID:25098-1732104000-1732107600@www.sikich.com
SUMMARY:2024 Yellowbook Webinar Series: Internal Audit and Internal Controls
DESCRIPTION:Join us for the tenth installment of our 2024 Yellowbook Webinar Series\, where our experts will discuss the importance of internal controls in safeguarding your organization. In this session\, you’ll learn: \n\nKey internal controls that support operational efficiency\, reliable financial reporting and IT security\nHow internal controls ensure compliance with laws and regulations\nThe critical role of internal audit in assessing and maintaining effective internal controls\n\nThis session is designed to help you understand how internal controls and audits work together to protect your organization and achieve business objectives. Don’t miss out on this intermediate level training geared towards finance roles in the government industry. \nThis webinar is eligible for 1.0 CPE credit. \n\nREGISTER NOW >>>
URL:https://www.sikich.com/event/2024-yellowbook-webinar-series-internal-audit-and-internal-controls/
LOCATION:Virtual
CATEGORIES:Accounting,Government
END:VEVENT
END:VCALENDAR