BEGIN:VCALENDAR
VERSION:2.0
PRODID:-//Sikich - ECPv6.15.19//NONSGML v1.0//EN
CALSCALE:GREGORIAN
METHOD:PUBLISH
X-WR-CALNAME:Sikich
X-ORIGINAL-URL:https://www.sikich.com
X-WR-CALDESC:Events for Sikich
REFRESH-INTERVAL;VALUE=DURATION:PT1H
X-Robots-Tag:noindex
X-PUBLISHED-TTL:PT1H
BEGIN:VTIMEZONE
TZID:America/Chicago
BEGIN:DAYLIGHT
TZOFFSETFROM:-0600
TZOFFSETTO:-0500
TZNAME:CDT
DTSTART:20230312T080000
END:DAYLIGHT
BEGIN:STANDARD
TZOFFSETFROM:-0500
TZOFFSETTO:-0600
TZNAME:CST
DTSTART:20231105T070000
END:STANDARD
BEGIN:DAYLIGHT
TZOFFSETFROM:-0600
TZOFFSETTO:-0500
TZNAME:CDT
DTSTART:20240310T080000
END:DAYLIGHT
BEGIN:STANDARD
TZOFFSETFROM:-0500
TZOFFSETTO:-0600
TZNAME:CST
DTSTART:20241103T070000
END:STANDARD
BEGIN:DAYLIGHT
TZOFFSETFROM:-0600
TZOFFSETTO:-0500
TZNAME:CDT
DTSTART:20250309T080000
END:DAYLIGHT
BEGIN:STANDARD
TZOFFSETFROM:-0500
TZOFFSETTO:-0600
TZNAME:CST
DTSTART:20251102T070000
END:STANDARD
END:VTIMEZONE
BEGIN:VTIMEZONE
TZID:America/New_York
BEGIN:DAYLIGHT
TZOFFSETFROM:-0500
TZOFFSETTO:-0400
TZNAME:EDT
DTSTART:20230312T070000
END:DAYLIGHT
BEGIN:STANDARD
TZOFFSETFROM:-0400
TZOFFSETTO:-0500
TZNAME:EST
DTSTART:20231105T060000
END:STANDARD
BEGIN:DAYLIGHT
TZOFFSETFROM:-0500
TZOFFSETTO:-0400
TZNAME:EDT
DTSTART:20240310T070000
END:DAYLIGHT
BEGIN:STANDARD
TZOFFSETFROM:-0400
TZOFFSETTO:-0500
TZNAME:EST
DTSTART:20241103T060000
END:STANDARD
BEGIN:DAYLIGHT
TZOFFSETFROM:-0500
TZOFFSETTO:-0400
TZNAME:EDT
DTSTART:20250309T070000
END:DAYLIGHT
BEGIN:STANDARD
TZOFFSETFROM:-0400
TZOFFSETTO:-0500
TZNAME:EST
DTSTART:20251102T060000
END:STANDARD
END:VTIMEZONE
BEGIN:VEVENT
DTSTART;TZID=America/Chicago:20240717T120000
DTEND;TZID=America/Chicago:20240717T130000
DTSTAMP:20260421T194953
CREATED:20240709T190111Z
LAST-MODIFIED:20240709T190111Z
UID:23629-1721217600-1721221200@www.sikich.com
SUMMARY:2024 Yellowbook Webinar Series: Cybersecurity Part 2
DESCRIPTION:Join us for the sixth installment of our 2024 Yellowbook Webinar Series! Same time\, same place. \nIn this session on Cybersecurity\, our government finance experts will: \n\nReview cybersecurity foundational concepts\nApply the concepts to safe email utilization\nExplain how to ensure a secure remote work environment\n\nThis event is an intermediate level training geared towards finance roles in the government industry and qualifies for 1.0 CPE. \nREGISTER NOW >>>
URL:https://www.sikich.com/event/2024-yellowbook-webinar-series-cybersecurity-part-2/
LOCATION:Virtual
CATEGORIES:Accounting,Audit,Virtual,Webinar
ATTACH;FMTTYPE=image/png:https://www.sikich.com/wp-content/uploads/2024/07/Cyber-Event-Thumb.png
END:VEVENT
BEGIN:VEVENT
DTSTART;TZID=America/New_York:20240731T111500
DTEND;TZID=America/New_York:20240731T124500
DTSTAMP:20260421T194953
CREATED:20240607T144809Z
LAST-MODIFIED:20240607T155824Z
UID:23260-1722424500-1722429900@www.sikich.com
SUMMARY:You've Been Breached Lunch And Learn
DESCRIPTION:We are excited to invite you to our upcoming lunch and learn\, “You’ve Been Breached: An Interactive Incident Response Simulation.” This interactive simulation will engage the audience and task them with navigating the many challenges associated with suffering a security incident that results in a major data breach. \nJoin us on July 31\, 2024 at 11:15 am ET for a complimentary lunch and a simulation that will educate\, challenge\, and intrigue the audience. RSVP today\, because seating is limited! \nRegister now!
URL:https://www.sikich.com/event/youve-been-breached-lunch-and-learn-2/
LOCATION:Delmonico’s Steakhouse\, 6001 Quarry Lane\, Independence\, OH\, 44131\, United States
CATEGORIES:In Person,Technology
ATTACH;FMTTYPE=image/jpeg:https://www.sikich.com/wp-content/uploads/2024/02/youvebeenbreached.jpg
END:VEVENT
END:VCALENDAR