BEGIN:VCALENDAR
VERSION:2.0
PRODID:-//Sikich - ECPv6.15.19//NONSGML v1.0//EN
CALSCALE:GREGORIAN
METHOD:PUBLISH
X-ORIGINAL-URL:https://www.sikich.com
X-WR-CALDESC:Events for Sikich
REFRESH-INTERVAL;VALUE=DURATION:PT1H
X-Robots-Tag:noindex
X-PUBLISHED-TTL:PT1H
BEGIN:VTIMEZONE
TZID:America/Chicago
BEGIN:DAYLIGHT
TZOFFSETFROM:-0600
TZOFFSETTO:-0500
TZNAME:CDT
DTSTART:20250309T080000
END:DAYLIGHT
BEGIN:STANDARD
TZOFFSETFROM:-0500
TZOFFSETTO:-0600
TZNAME:CST
DTSTART:20251102T070000
END:STANDARD
BEGIN:DAYLIGHT
TZOFFSETFROM:-0600
TZOFFSETTO:-0500
TZNAME:CDT
DTSTART:20260308T080000
END:DAYLIGHT
BEGIN:STANDARD
TZOFFSETFROM:-0500
TZOFFSETTO:-0600
TZNAME:CST
DTSTART:20261101T070000
END:STANDARD
BEGIN:DAYLIGHT
TZOFFSETFROM:-0600
TZOFFSETTO:-0500
TZNAME:CDT
DTSTART:20270314T080000
END:DAYLIGHT
BEGIN:STANDARD
TZOFFSETFROM:-0500
TZOFFSETTO:-0600
TZNAME:CST
DTSTART:20271107T070000
END:STANDARD
END:VTIMEZONE
BEGIN:VEVENT
DTSTART;VALUE=DATE:20260413
DTEND;VALUE=DATE:20260414
DTSTAMP:20260421T131042
CREATED:20260327T171347Z
LAST-MODIFIED:20260327T171347Z
UID:35851-1776038400-1776124799@www.sikich.com
SUMMARY:2026 IIA Houston Annual Conference
DESCRIPTION:We are proud to sponsor and exhibit at the 2026 IIA Houston Annual Conference. We invite you to stop by Booth #4 to meet our risk consulting team and explore how we can support your organization’s internal audit and risk management goals. \nWhether you’re exploring ways to elevate your internal audit function or looking for support on specific risk or compliance initiatives\, our specialists are ready to connect\, share practical insights\, and discuss emerging risks shaping today’s business environment. \nWe look forward to seeing you in Houston! \nRegister here
URL:https://www.sikich.com/event/2026-iia-houston-annual-conference/
LOCATION:NRG Center\, One NRG Park\, Houston\, TX\, 77054\, United States
CATEGORIES:Conferences & Trade
END:VEVENT
END:VCALENDAR