BEGIN:VCALENDAR
VERSION:2.0
PRODID:-//Sikich - ECPv6.15.19//NONSGML v1.0//EN
CALSCALE:GREGORIAN
METHOD:PUBLISH
X-WR-CALNAME:Sikich
X-ORIGINAL-URL:https://www.sikich.com
X-WR-CALDESC:Events for Sikich
REFRESH-INTERVAL;VALUE=DURATION:PT1H
X-Robots-Tag:noindex
X-PUBLISHED-TTL:PT1H
BEGIN:VTIMEZONE
TZID:America/Chicago
BEGIN:DAYLIGHT
TZOFFSETFROM:-0600
TZOFFSETTO:-0500
TZNAME:CDT
DTSTART:20250309T080000
END:DAYLIGHT
BEGIN:STANDARD
TZOFFSETFROM:-0500
TZOFFSETTO:-0600
TZNAME:CST
DTSTART:20251102T070000
END:STANDARD
BEGIN:DAYLIGHT
TZOFFSETFROM:-0600
TZOFFSETTO:-0500
TZNAME:CDT
DTSTART:20260308T080000
END:DAYLIGHT
BEGIN:STANDARD
TZOFFSETFROM:-0500
TZOFFSETTO:-0600
TZNAME:CST
DTSTART:20261101T070000
END:STANDARD
BEGIN:DAYLIGHT
TZOFFSETFROM:-0600
TZOFFSETTO:-0500
TZNAME:CDT
DTSTART:20270314T080000
END:DAYLIGHT
BEGIN:STANDARD
TZOFFSETFROM:-0500
TZOFFSETTO:-0600
TZNAME:CST
DTSTART:20271107T070000
END:STANDARD
END:VTIMEZONE
BEGIN:VEVENT
DTSTART;TZID=America/Chicago:20260407T120000
DTEND;TZID=America/Chicago:20260407T124500
DTSTAMP:20260421T130740
CREATED:20260318T165341Z
LAST-MODIFIED:20260318T165341Z
UID:35615-1775563200-1775565900@www.sikich.com
SUMMARY:AI off the record: a CFO’s playbook
DESCRIPTION:Every AI initiative becomes a finance problem at some point. The strongest leaders step in early and guide how their companies invest\, govern and scale AI with clarity and discipline. \nThat’s the focus of the first episode of “AI off the record”\, a candid series from Sikich built for manufacturing leaders in finance and operations who are being asked to lead on AI initiatives\, whether they feel ready or not. \nThis session’s guest\, Ryan Spohn\, CFO and COO of Sikich\, will join John Eisenhauer and Debbie Altham from the Sikich data and AI team to discuss: \n\nWhere CFOs should start when shaping an AI strategy\nHow AI is changing service delivery\, workflows and the nature of work\nNew opportunities that were not practical until now\nThe pace of disruption and how far ahead leaders should be planning\nPractical guidance on what finance and operations leaders should do next\n\nRegister here
URL:https://www.sikich.com/event/ai-off-the-record-a-cfos-playbook/
LOCATION:PA
CATEGORIES:Technology,Webinar
END:VEVENT
END:VCALENDAR