BEGIN:VCALENDAR
VERSION:2.0
PRODID:-//Sikich - ECPv6.15.19//NONSGML v1.0//EN
CALSCALE:GREGORIAN
METHOD:PUBLISH
X-WR-CALNAME:Sikich
X-ORIGINAL-URL:https://www.sikich.com
X-WR-CALDESC:Events for Sikich
REFRESH-INTERVAL;VALUE=DURATION:PT1H
X-Robots-Tag:noindex
X-PUBLISHED-TTL:PT1H
BEGIN:VTIMEZONE
TZID:America/Chicago
BEGIN:DAYLIGHT
TZOFFSETFROM:-0600
TZOFFSETTO:-0500
TZNAME:CDT
DTSTART:20250309T080000
END:DAYLIGHT
BEGIN:STANDARD
TZOFFSETFROM:-0500
TZOFFSETTO:-0600
TZNAME:CST
DTSTART:20251102T070000
END:STANDARD
BEGIN:DAYLIGHT
TZOFFSETFROM:-0600
TZOFFSETTO:-0500
TZNAME:CDT
DTSTART:20260308T080000
END:DAYLIGHT
BEGIN:STANDARD
TZOFFSETFROM:-0500
TZOFFSETTO:-0600
TZNAME:CST
DTSTART:20261101T070000
END:STANDARD
BEGIN:DAYLIGHT
TZOFFSETFROM:-0600
TZOFFSETTO:-0500
TZNAME:CDT
DTSTART:20270314T080000
END:DAYLIGHT
BEGIN:STANDARD
TZOFFSETFROM:-0500
TZOFFSETTO:-0600
TZNAME:CST
DTSTART:20271107T070000
END:STANDARD
END:VTIMEZONE
BEGIN:VEVENT
DTSTART;VALUE=DATE:20260317
DTEND;VALUE=DATE:20260320
DTSTAMP:20260421T144002
CREATED:20260121T162845Z
LAST-MODIFIED:20260121T162845Z
UID:34431-1773705600-1773964799@www.sikich.com
SUMMARY:AI Agent & Copilot Summit 2026
DESCRIPTION:Sikich is sponsoring the AI Agent & Copilot Microsoft Community Summit\, March 17–19\, 2026\, at the Hilton Torrey Pines in San Diego\, CA\, enabling our VIP customers\, like you\, to receive a 15% discount to join us there! Secure your spot today and use discount code Sikich15. \nFeaturing Microsoft AI leaders like Dona Sarkar\, Ray Smith\, Dewain Robinson\, and others joining 40+ speakers from the community\, and 750+ director level and above mid-market & enterprise attendees\, this exclusive two-and-half day program includes: Microsoft executive & industry thought leader keynotes\, Agent & Copilot vertical industry use cases\, frameworks to define AI impact assessments\, masterclasses\, networking and more. \nWith the wild pace of AI innovation\, we hope you can take this opportunity to join us in San Diego and leverage the amazing speakers and agenda to make sense of why & how to align Agents & Copilot to your business. \nBe sure to join us for the Accelerating Sales & Field Service with Copilot Studio Agents session on March 19th at 3:45pm PST with our Principal AI Strategist\, Ray Beste. \nRegister for AI Agent & Copilot Summit here: Register – AI Copilot Summit
URL:https://www.sikich.com/event/ai-agent-copilot-summit-2026/
LOCATION:Hilton La Jolla Torrey Pines\, 10950 N Torrey Pines Rd\, La Jolla\, CA\, 92037\, United States
CATEGORIES:Conferences & Trade,In Person,Technology
END:VEVENT
END:VCALENDAR