BEGIN:VCALENDAR
VERSION:2.0
PRODID:-//Sikich - ECPv6.15.19//NONSGML v1.0//EN
CALSCALE:GREGORIAN
METHOD:PUBLISH
X-ORIGINAL-URL:https://www.sikich.com
X-WR-CALDESC:Events for Sikich
REFRESH-INTERVAL;VALUE=DURATION:PT1H
X-Robots-Tag:noindex
X-PUBLISHED-TTL:PT1H
BEGIN:VTIMEZONE
TZID:America/Chicago
BEGIN:DAYLIGHT
TZOFFSETFROM:-0600
TZOFFSETTO:-0500
TZNAME:CDT
DTSTART:20250309T080000
END:DAYLIGHT
BEGIN:STANDARD
TZOFFSETFROM:-0500
TZOFFSETTO:-0600
TZNAME:CST
DTSTART:20251102T070000
END:STANDARD
BEGIN:DAYLIGHT
TZOFFSETFROM:-0600
TZOFFSETTO:-0500
TZNAME:CDT
DTSTART:20260308T080000
END:DAYLIGHT
BEGIN:STANDARD
TZOFFSETFROM:-0500
TZOFFSETTO:-0600
TZNAME:CST
DTSTART:20261101T070000
END:STANDARD
BEGIN:DAYLIGHT
TZOFFSETFROM:-0600
TZOFFSETTO:-0500
TZNAME:CDT
DTSTART:20270314T080000
END:DAYLIGHT
BEGIN:STANDARD
TZOFFSETFROM:-0500
TZOFFSETTO:-0600
TZNAME:CST
DTSTART:20271107T070000
END:STANDARD
END:VTIMEZONE
BEGIN:VEVENT
DTSTART;VALUE=DATE:20260312
DTEND;VALUE=DATE:20260313
DTSTAMP:20260421T144220
CREATED:20260206T163508Z
LAST-MODIFIED:20260216T151237Z
UID:34831-1773273600-1773359999@www.sikich.com
SUMMARY:Maryland Tech Council Technology Transformation Conference 2026
DESCRIPTION:Join Sikich at the Maryland Tech Council Technology Transformation Conference on March 12 at the Hall at Maryland Live Hotel & Casino. Now in its seventh year\, this event brings together Maryland’s leading technology organizations and professionals to explore the newest innovations and uncover fresh ways to collaborate\, apply emerging tech\, and accelerate growth. \nStop by booth 1 to see how Sikich helps life sciences organizations plan smarter\, modernize faster\, and innovate with confidence. From strategic planning and regulatory expertise to digital modernization\, we guide companies through complex regulatory landscapes and into the future of life sciences.
URL:https://www.sikich.com/event/maryland-tech-council-technology-transformation-conference-2026/
LOCATION:The Hall at Maryland Live! Hotel & Casino\, 7002 Arundel Mills\, Circle #7777\, Hanover\, MD\, 21076\, United States
CATEGORIES:Conferences & Trade,Technology
ATTACH;FMTTYPE=image/png:https://www.sikich.com/wp-content/uploads/2026/02/45ec0a45-233f-478a-bd5a-2dea2fef11fc.png
END:VEVENT
END:VCALENDAR