BEGIN:VCALENDAR
VERSION:2.0
PRODID:-//Sikich - ECPv6.15.19//NONSGML v1.0//EN
CALSCALE:GREGORIAN
METHOD:PUBLISH
X-ORIGINAL-URL:https://www.sikich.com
X-WR-CALDESC:Events for Sikich
REFRESH-INTERVAL;VALUE=DURATION:PT1H
X-Robots-Tag:noindex
X-PUBLISHED-TTL:PT1H
BEGIN:VTIMEZONE
TZID:America/Chicago
BEGIN:DAYLIGHT
TZOFFSETFROM:-0600
TZOFFSETTO:-0500
TZNAME:CDT
DTSTART:20250309T080000
END:DAYLIGHT
BEGIN:STANDARD
TZOFFSETFROM:-0500
TZOFFSETTO:-0600
TZNAME:CST
DTSTART:20251102T070000
END:STANDARD
BEGIN:DAYLIGHT
TZOFFSETFROM:-0600
TZOFFSETTO:-0500
TZNAME:CDT
DTSTART:20260308T080000
END:DAYLIGHT
BEGIN:STANDARD
TZOFFSETFROM:-0500
TZOFFSETTO:-0600
TZNAME:CST
DTSTART:20261101T070000
END:STANDARD
BEGIN:DAYLIGHT
TZOFFSETFROM:-0600
TZOFFSETTO:-0500
TZNAME:CDT
DTSTART:20270314T080000
END:DAYLIGHT
BEGIN:STANDARD
TZOFFSETFROM:-0500
TZOFFSETTO:-0600
TZNAME:CST
DTSTART:20271107T070000
END:STANDARD
END:VTIMEZONE
BEGIN:VEVENT
DTSTART;TZID=America/Chicago:20260305T120000
DTEND;TZID=America/Chicago:20260305T130000
DTSTAMP:20260421T144222
CREATED:20260209T192037Z
LAST-MODIFIED:20260209T192037Z
UID:34870-1772712000-1772715600@www.sikich.com
SUMMARY:Why ERP initiatives stall - and what successful organizations do differently
DESCRIPTION:An executive panel on ERP as a business transformation catalyst – not a technology implementation. \nERP initiatives rarely fail because of the software. They fail because organizations underestimate the operational\, data\, risk and organizational realities required to make them successful. \nJoin this executive-level panel discussion for a candid\, real-world conversation on what actually determines ERP success – from data readiness and change capacity to cybersecurity risk\, integration and post-go-live sustainability. \nThis 60-minute panel is designed for CFOs\, COOs and CIOs navigating growth\, AI adoption\, private equity pressure or digital transformation and looking to avoid the costly missteps that cause ERP initiatives to stall or fall short. \nWhether you’re evaluating ERP options\, in the middle of an implementation\, or living with a system that hasn’t delivered the value you expected\, this session is designed to meet you where you are. \nRegister here!
URL:https://www.sikich.com/event/why-erp-initiatives-stall-and-what-successful-organizations-do-differently/
LOCATION:PA
CATEGORIES:Technology,Webinar
END:VEVENT
END:VCALENDAR