BEGIN:VCALENDAR
VERSION:2.0
PRODID:-//Sikich - ECPv6.15.19//NONSGML v1.0//EN
CALSCALE:GREGORIAN
METHOD:PUBLISH
X-ORIGINAL-URL:https://www.sikich.com
X-WR-CALDESC:Events for Sikich
REFRESH-INTERVAL;VALUE=DURATION:PT1H
X-Robots-Tag:noindex
X-PUBLISHED-TTL:PT1H
BEGIN:VTIMEZONE
TZID:America/Chicago
BEGIN:DAYLIGHT
TZOFFSETFROM:-0600
TZOFFSETTO:-0500
TZNAME:CDT
DTSTART:20240310T080000
END:DAYLIGHT
BEGIN:STANDARD
TZOFFSETFROM:-0500
TZOFFSETTO:-0600
TZNAME:CST
DTSTART:20241103T070000
END:STANDARD
BEGIN:DAYLIGHT
TZOFFSETFROM:-0600
TZOFFSETTO:-0500
TZNAME:CDT
DTSTART:20250309T080000
END:DAYLIGHT
BEGIN:STANDARD
TZOFFSETFROM:-0500
TZOFFSETTO:-0600
TZNAME:CST
DTSTART:20251102T070000
END:STANDARD
BEGIN:DAYLIGHT
TZOFFSETFROM:-0600
TZOFFSETTO:-0500
TZNAME:CDT
DTSTART:20260308T080000
END:DAYLIGHT
BEGIN:STANDARD
TZOFFSETFROM:-0500
TZOFFSETTO:-0600
TZNAME:CST
DTSTART:20261101T070000
END:STANDARD
END:VTIMEZONE
BEGIN:VEVENT
DTSTART;TZID=America/Chicago:20251211T120000
DTEND;TZID=America/Chicago:20251211T124500
DTSTAMP:20260421T194951
CREATED:20251120T182759Z
LAST-MODIFIED:20251120T182759Z
UID:31564-1765454400-1765457100@www.sikich.com
SUMMARY:Stay Ahead of Enforcement: Prepare Your F&SCM Licensing\, Capacity and Data Strategy for 2026
DESCRIPTION:Microsoft is introducing new enforcement measures that will change how organizations manage users\, storage\, and data across Dynamics 365 Finance and Supply Chain Management (F&SCM). Licensing enforcement begins in January 2026\, with capacity enforcement close behind – making now the time to get your data and governance strategy in order.\n\nJoin Sikich for an inside look at what’s changing\, what to do next\, and how to build a future-ready approach to licensing\, capacity\, and data management. You’ll learn practical ways to stay compliant\, streamline storage and unlock the value of your data with Microsoft Fabric.\n\nWe’ll cover:\n\n\nWhat’s changing with Microsoft’s licensing enforcement in January 2026 – and what it means for your business\nHow to prepare for upcoming capacity enforcement and avoid unexpected overage costs\nPractical steps to measure and manage storage using Sikich’s Capacity Review Workshop and Archiving Service\nHow to unify and govern Dynamics 365 data using Microsoft Fabric for analytics\, AI and Copilot\nLive demo: How to assign and manage F&SCM users efficiently\n\n\nWhy attend? You’ll walk away with clear steps to measure\, manage and unify your Dynamics 365 data – turning enforcement changes into an opportunity to reduce costs\, strengthen governance and modernize your environment. \n\n\n\nREGISTER NOW
URL:https://www.sikich.com/event/stay-ahead-of-enforcement-prepare-your-fscm-licensing-capacity-and-data-strategy-for-2026/
LOCATION:PA
CATEGORIES:Virtual,Webinar
END:VEVENT
END:VCALENDAR