BEGIN:VCALENDAR
VERSION:2.0
PRODID:-//Sikich - ECPv6.15.19//NONSGML v1.0//EN
CALSCALE:GREGORIAN
METHOD:PUBLISH
X-ORIGINAL-URL:https://www.sikich.com
X-WR-CALDESC:Events for Sikich
REFRESH-INTERVAL;VALUE=DURATION:PT1H
X-Robots-Tag:noindex
X-PUBLISHED-TTL:PT1H
BEGIN:VTIMEZONE
TZID:America/Chicago
BEGIN:DAYLIGHT
TZOFFSETFROM:-0600
TZOFFSETTO:-0500
TZNAME:CDT
DTSTART:20240310T080000
END:DAYLIGHT
BEGIN:STANDARD
TZOFFSETFROM:-0500
TZOFFSETTO:-0600
TZNAME:CST
DTSTART:20241103T070000
END:STANDARD
BEGIN:DAYLIGHT
TZOFFSETFROM:-0600
TZOFFSETTO:-0500
TZNAME:CDT
DTSTART:20250309T080000
END:DAYLIGHT
BEGIN:STANDARD
TZOFFSETFROM:-0500
TZOFFSETTO:-0600
TZNAME:CST
DTSTART:20251102T070000
END:STANDARD
BEGIN:DAYLIGHT
TZOFFSETFROM:-0600
TZOFFSETTO:-0500
TZNAME:CDT
DTSTART:20260308T080000
END:DAYLIGHT
BEGIN:STANDARD
TZOFFSETFROM:-0500
TZOFFSETTO:-0600
TZNAME:CST
DTSTART:20261101T070000
END:STANDARD
END:VTIMEZONE
BEGIN:VEVENT
DTSTART;TZID=America/Chicago:20251209T120000
DTEND;TZID=America/Chicago:20251209T130000
DTSTAMP:20260421T194951
CREATED:20251119T184911Z
LAST-MODIFIED:20251119T184911Z
UID:31560-1765281600-1765285200@www.sikich.com
SUMMARY:AI for Not-for-Profits: Transforming Finance\, Fundraising and Engagement
DESCRIPTION:AI is reshaping how not-for-profits manage finances\, fundraising and member engagement. From automating financial tasks to improving donor research and forecasting\, AI empowers teams to work smarter\, increase transparency and make data-driven decisions.\n\nJoin our webinar on December 9 to explore real-world AI applications in not-for-profit finance and donor management – from fraud prevention to dynamic fundraising analytics. You’ll learn how organizations of all sizes can adopt AI effectively\, mitigate risks\, and strengthen donor and member relationships.\n\nWe’ll cover:\n\n\nPractical AI use cases for not-for-profit finance\, fundraising and engagement\nHow to leverage AI without enterprise-level resources\nManaging risks and ensuring ethical AI use\nBest practices for AI adoption in finance and donor management\n\nThis webinar is eligible for 1.0 CPE. \n\nREGISTER >>
URL:https://www.sikich.com/event/ai-for-not-for-profits-transforming-finance-fundraising-and-engagement/
LOCATION:Virtual
CATEGORIES:Not-For-Profit,Virtual,Webinar
ATTACH;FMTTYPE=image/jpeg:https://www.sikich.com/wp-content/uploads/2025/11/insuretechAI.jpg
END:VEVENT
END:VCALENDAR