BEGIN:VCALENDAR
VERSION:2.0
PRODID:-//Sikich - ECPv6.15.19//NONSGML v1.0//EN
CALSCALE:GREGORIAN
METHOD:PUBLISH
X-ORIGINAL-URL:https://www.sikich.com
X-WR-CALDESC:Events for Sikich
REFRESH-INTERVAL;VALUE=DURATION:PT1H
X-Robots-Tag:noindex
X-PUBLISHED-TTL:PT1H
BEGIN:VTIMEZONE
TZID:America/Chicago
BEGIN:DAYLIGHT
TZOFFSETFROM:-0600
TZOFFSETTO:-0500
TZNAME:CDT
DTSTART:20240310T080000
END:DAYLIGHT
BEGIN:STANDARD
TZOFFSETFROM:-0500
TZOFFSETTO:-0600
TZNAME:CST
DTSTART:20241103T070000
END:STANDARD
BEGIN:DAYLIGHT
TZOFFSETFROM:-0600
TZOFFSETTO:-0500
TZNAME:CDT
DTSTART:20250309T080000
END:DAYLIGHT
BEGIN:STANDARD
TZOFFSETFROM:-0500
TZOFFSETTO:-0600
TZNAME:CST
DTSTART:20251102T070000
END:STANDARD
BEGIN:DAYLIGHT
TZOFFSETFROM:-0600
TZOFFSETTO:-0500
TZNAME:CDT
DTSTART:20260308T080000
END:DAYLIGHT
BEGIN:STANDARD
TZOFFSETFROM:-0500
TZOFFSETTO:-0600
TZNAME:CST
DTSTART:20261101T070000
END:STANDARD
END:VTIMEZONE
BEGIN:VEVENT
DTSTART;TZID=America/Chicago:20251120T080000
DTEND;TZID=America/Chicago:20251120T090000
DTSTAMP:20260421T212349
CREATED:20251028T150406Z
LAST-MODIFIED:20251028T150406Z
UID:31389-1763625600-1763629200@www.sikich.com
SUMMARY:The OBBBA and Beyond: 2025 Year-End Tax Planning Essentials
DESCRIPTION:As 2025 draws to a close\, understanding the latest tax guidance will help you identify opportunities\, ensure compliance and position yourself for a strong start to the new year. In this webinar\, we’ll unpack recent developments surrounding the One Big Beautiful Bill Act (OBBBA) and explore its implications for both businesses and individual taxpayers. \nJoin us as we dive into key year-end planning considerations\, including: \n\nOBBBA provisions: the latest updates and implementation guidance\nStrategic tax planning for middle-market businesses\nTax planning opportunities for individual taxpayers\nCurrent reporting requirements and available relief options\nRecent tax cases and IRS guidance that may impact your planning and compliance\n\nThis webinar will equip you with the insights you need to navigate year-end with confidence. \nThis webinar is eligible for 1.0 CPE. \nRegister
URL:https://www.sikich.com/event/the-obbba-and-beyond-2025-year-end-tax-planning/
LOCATION:PA
CATEGORIES:Tax,Virtual,Webinar
ATTACH;FMTTYPE=image/jpeg:https://www.sikich.com/wp-content/uploads/2025/03/CPAsecurity.jpg
END:VEVENT
END:VCALENDAR