BEGIN:VCALENDAR
VERSION:2.0
PRODID:-//Sikich - ECPv6.15.19//NONSGML v1.0//EN
CALSCALE:GREGORIAN
METHOD:PUBLISH
X-ORIGINAL-URL:https://www.sikich.com
X-WR-CALDESC:Events for Sikich
REFRESH-INTERVAL;VALUE=DURATION:PT1H
X-Robots-Tag:noindex
X-PUBLISHED-TTL:PT1H
BEGIN:VTIMEZONE
TZID:America/Chicago
BEGIN:DAYLIGHT
TZOFFSETFROM:-0600
TZOFFSETTO:-0500
TZNAME:CDT
DTSTART:20240310T080000
END:DAYLIGHT
BEGIN:STANDARD
TZOFFSETFROM:-0500
TZOFFSETTO:-0600
TZNAME:CST
DTSTART:20241103T070000
END:STANDARD
BEGIN:DAYLIGHT
TZOFFSETFROM:-0600
TZOFFSETTO:-0500
TZNAME:CDT
DTSTART:20250309T080000
END:DAYLIGHT
BEGIN:STANDARD
TZOFFSETFROM:-0500
TZOFFSETTO:-0600
TZNAME:CST
DTSTART:20251102T070000
END:STANDARD
BEGIN:DAYLIGHT
TZOFFSETFROM:-0600
TZOFFSETTO:-0500
TZNAME:CDT
DTSTART:20260308T080000
END:DAYLIGHT
BEGIN:STANDARD
TZOFFSETFROM:-0500
TZOFFSETTO:-0600
TZNAME:CST
DTSTART:20261101T070000
END:STANDARD
END:VTIMEZONE
BEGIN:VEVENT
DTSTART;TZID=America/Chicago:20251106T120000
DTEND;TZID=America/Chicago:20251106T130000
DTSTAMP:20260421T212349
CREATED:20250916T155257Z
LAST-MODIFIED:20250916T162004Z
UID:30801-1762430400-1762434000@www.sikich.com
SUMMARY:SECURE a Successful 2026 Benefit Plan Audit
DESCRIPTION:The 2025 plan year is largely in the rear-view mirror\, and now is the time to position your employee benefit plan audit for a successful 2026. Taking proactive steps today can help avoid common pitfalls\, reduce audit stress and ensure compliance.\n\nIn this one-hour webinar\, Sikich’s employee benefit plan experts will share timely insights and practical reminders\, including:\n\n\nSECURE 2.0 updates: What’s changing in 2026 and how plan sponsors should prepare\nCommon pitfalls: Lessons learned from the 2025 audit season\nCensus data accuracy: How to prepare for compliance testing\n\nWhether you oversee plan compliance\, work directly with auditors or simply want to set your organization up for success\, this session will give you the tools and foresight to plan ahead. Failing to plan is a plan to fail.\n\n  \n\nThis webinar is eligible for 1.0 CPE and 1.0 HRCI.\n\n  \nREGISTER >>
URL:https://www.sikich.com/event/secure-a-successful-2026-benefit-plan-audit/
LOCATION:Virtual
CATEGORIES:Virtual,Webinar
ATTACH;FMTTYPE=image/jpeg:https://www.sikich.com/wp-content/uploads/2025/04/smbnetsuite.jpg
END:VEVENT
END:VCALENDAR