BEGIN:VCALENDAR
VERSION:2.0
PRODID:-//Sikich - ECPv6.15.19//NONSGML v1.0//EN
CALSCALE:GREGORIAN
METHOD:PUBLISH
X-ORIGINAL-URL:https://www.sikich.com
X-WR-CALDESC:Events for Sikich
REFRESH-INTERVAL;VALUE=DURATION:PT1H
X-Robots-Tag:noindex
X-PUBLISHED-TTL:PT1H
BEGIN:VTIMEZONE
TZID:America/Chicago
BEGIN:DAYLIGHT
TZOFFSETFROM:-0600
TZOFFSETTO:-0500
TZNAME:CDT
DTSTART:20240310T080000
END:DAYLIGHT
BEGIN:STANDARD
TZOFFSETFROM:-0500
TZOFFSETTO:-0600
TZNAME:CST
DTSTART:20241103T070000
END:STANDARD
BEGIN:DAYLIGHT
TZOFFSETFROM:-0600
TZOFFSETTO:-0500
TZNAME:CDT
DTSTART:20250309T080000
END:DAYLIGHT
BEGIN:STANDARD
TZOFFSETFROM:-0500
TZOFFSETTO:-0600
TZNAME:CST
DTSTART:20251102T070000
END:STANDARD
BEGIN:DAYLIGHT
TZOFFSETFROM:-0600
TZOFFSETTO:-0500
TZNAME:CDT
DTSTART:20260308T080000
END:DAYLIGHT
BEGIN:STANDARD
TZOFFSETFROM:-0500
TZOFFSETTO:-0600
TZNAME:CST
DTSTART:20261101T070000
END:STANDARD
END:VTIMEZONE
BEGIN:VEVENT
DTSTART;TZID=America/Chicago:20251105T120000
DTEND;TZID=America/Chicago:20251105T130000
DTSTAMP:20260421T212348
CREATED:20251008T165558Z
LAST-MODIFIED:20251008T165558Z
UID:31158-1762344000-1762347600@www.sikich.com
SUMMARY:Post-Community Summit Recap: What Microsoft's Latest Announcements Mean for You
DESCRIPTION:Join us on Wednesday\, November 5 for a 60-minute debrief about Community Summit NA\, where we’ll break down Microsoft’s announcements from the Summit and explain what they mean for your business. \nWe’ll cover: \n\nThe announcements that will directly impact your business in 2026 and beyond\nThe latest on Copilot\, Dynamics 365 Business Central\, Finance and Supply Chain Management\, and Customer Engagement\nRapid-fire recaps of Summit sessions and community insights\n\nYou’ll leave with a clear understanding of what’s new\, what to prioritize and how to prepare your team – without having to sift through hundreds of sessions. \nRegister >>\n 
URL:https://www.sikich.com/event/post-community-summit-recap-what-microsofts-latest-announcements-mean-for-you/
LOCATION:Virtual
CATEGORIES:Technology,Virtual
ATTACH;FMTTYPE=image/jpeg:https://www.sikich.com/wp-content/uploads/2024/03/SIKICH-Community-Summit-North-America-2024-300x300-1.jpeg
END:VEVENT
END:VCALENDAR