BEGIN:VCALENDAR
VERSION:2.0
PRODID:-//Sikich - ECPv6.15.19//NONSGML v1.0//EN
CALSCALE:GREGORIAN
METHOD:PUBLISH
X-WR-CALNAME:Sikich
X-ORIGINAL-URL:https://www.sikich.com
X-WR-CALDESC:Events for Sikich
REFRESH-INTERVAL;VALUE=DURATION:PT1H
X-Robots-Tag:noindex
X-PUBLISHED-TTL:PT1H
BEGIN:VTIMEZONE
TZID:America/Chicago
BEGIN:DAYLIGHT
TZOFFSETFROM:-0600
TZOFFSETTO:-0500
TZNAME:CDT
DTSTART:20240310T080000
END:DAYLIGHT
BEGIN:STANDARD
TZOFFSETFROM:-0500
TZOFFSETTO:-0600
TZNAME:CST
DTSTART:20241103T070000
END:STANDARD
BEGIN:DAYLIGHT
TZOFFSETFROM:-0600
TZOFFSETTO:-0500
TZNAME:CDT
DTSTART:20250309T080000
END:DAYLIGHT
BEGIN:STANDARD
TZOFFSETFROM:-0500
TZOFFSETTO:-0600
TZNAME:CST
DTSTART:20251102T070000
END:STANDARD
BEGIN:DAYLIGHT
TZOFFSETFROM:-0600
TZOFFSETTO:-0500
TZNAME:CDT
DTSTART:20260308T080000
END:DAYLIGHT
BEGIN:STANDARD
TZOFFSETFROM:-0500
TZOFFSETTO:-0600
TZNAME:CST
DTSTART:20261101T070000
END:STANDARD
END:VTIMEZONE
BEGIN:VEVENT
DTSTART;TZID=America/Chicago:20251015T120000
DTEND;TZID=America/Chicago:20251015T130000
DTSTAMP:20260421T225733
CREATED:20250926T192533Z
LAST-MODIFIED:20250926T195604Z
UID:30997-1760529600-1760533200@www.sikich.com
SUMMARY:Yellowbook Webinar Series Session 9: Capital Assets
DESCRIPTION:Join Sikich’s government finance experts for an insightful session focused on the latest developments in accounting for capital markets. This intermediate-level training is designed for finance professionals in the government sector who want to stay current and compliant with evolving standards. \nIn this session\, our experts will: \n\nReview accounting for capital assets\nHighlight key elements of GASB Statements 87\, 94\, 96\, and 104\nDiscuss recent changes and their practical impacts\n\nDon’t miss this opportunity to strengthen your understanding of capital markets accounting and ensure your organization is prepared for what’s ahead. \nThis webinar is eligible for 1.0 CPE. \nREGISTER >>
URL:https://www.sikich.com/event/yellowbook-series-session-9-capital-assets/
LOCATION:Virtual
CATEGORIES:Government,Virtual,Webinar
ATTACH;FMTTYPE=image/jpeg:https://www.sikich.com/wp-content/uploads/2024/05/professional-software-as-a-service-SaaS-user-in-human-capital-management-services-300x300-1.jpg
END:VEVENT
END:VCALENDAR