BEGIN:VCALENDAR
VERSION:2.0
PRODID:-//Sikich - ECPv6.15.19//NONSGML v1.0//EN
CALSCALE:GREGORIAN
METHOD:PUBLISH
X-ORIGINAL-URL:https://www.sikich.com
X-WR-CALDESC:Events for Sikich
REFRESH-INTERVAL;VALUE=DURATION:PT1H
X-Robots-Tag:noindex
X-PUBLISHED-TTL:PT1H
BEGIN:VTIMEZONE
TZID:America/Chicago
BEGIN:DAYLIGHT
TZOFFSETFROM:-0600
TZOFFSETTO:-0500
TZNAME:CDT
DTSTART:20240310T080000
END:DAYLIGHT
BEGIN:STANDARD
TZOFFSETFROM:-0500
TZOFFSETTO:-0600
TZNAME:CST
DTSTART:20241103T070000
END:STANDARD
BEGIN:DAYLIGHT
TZOFFSETFROM:-0600
TZOFFSETTO:-0500
TZNAME:CDT
DTSTART:20250309T080000
END:DAYLIGHT
BEGIN:STANDARD
TZOFFSETFROM:-0500
TZOFFSETTO:-0600
TZNAME:CST
DTSTART:20251102T070000
END:STANDARD
BEGIN:DAYLIGHT
TZOFFSETFROM:-0600
TZOFFSETTO:-0500
TZNAME:CDT
DTSTART:20260308T080000
END:DAYLIGHT
BEGIN:STANDARD
TZOFFSETFROM:-0500
TZOFFSETTO:-0600
TZNAME:CST
DTSTART:20261101T070000
END:STANDARD
END:VTIMEZONE
BEGIN:VEVENT
DTSTART;TZID=America/Chicago:20250924T120000
DTEND;TZID=America/Chicago:20250924T130000
DTSTAMP:20260422T003847
CREATED:20250217T234344Z
LAST-MODIFIED:20250217T234344Z
UID:27446-1758715200-1758718800@www.sikich.com
SUMMARY:2025 Yellowbook Series: Session 8 - Internal Audit
DESCRIPTION:Internal controls are the safeguards put in place to protect your organization. They are checks and balances designed to provide reasonable assurance regarding the achievement of objectives in the areas of operations effectiveness\, reliable financial reporting\, availability and security of information technology\, and compliance with laws and regulations. In this session you will learn essential internal controls and the importance of regularly verifying their effectiveness. \nThis webinar is eligible for 1.0 CPE. \nRegister >>
URL:https://www.sikich.com/event/2025-yellowbook-series-session-8-internal-audit/
LOCATION:Virtual
CATEGORIES:Accounting,Government,Virtual,Webinar
END:VEVENT
END:VCALENDAR