BEGIN:VCALENDAR
VERSION:2.0
PRODID:-//Sikich - ECPv6.15.19//NONSGML v1.0//EN
CALSCALE:GREGORIAN
METHOD:PUBLISH
X-WR-CALNAME:Sikich
X-ORIGINAL-URL:https://www.sikich.com
X-WR-CALDESC:Events for Sikich
REFRESH-INTERVAL;VALUE=DURATION:PT1H
X-Robots-Tag:noindex
X-PUBLISHED-TTL:PT1H
BEGIN:VTIMEZONE
TZID:America/Chicago
BEGIN:DAYLIGHT
TZOFFSETFROM:-0600
TZOFFSETTO:-0500
TZNAME:CDT
DTSTART:20240310T080000
END:DAYLIGHT
BEGIN:STANDARD
TZOFFSETFROM:-0500
TZOFFSETTO:-0600
TZNAME:CST
DTSTART:20241103T070000
END:STANDARD
BEGIN:DAYLIGHT
TZOFFSETFROM:-0600
TZOFFSETTO:-0500
TZNAME:CDT
DTSTART:20250309T080000
END:DAYLIGHT
BEGIN:STANDARD
TZOFFSETFROM:-0500
TZOFFSETTO:-0600
TZNAME:CST
DTSTART:20251102T070000
END:STANDARD
BEGIN:DAYLIGHT
TZOFFSETFROM:-0600
TZOFFSETTO:-0500
TZNAME:CDT
DTSTART:20260308T080000
END:DAYLIGHT
BEGIN:STANDARD
TZOFFSETFROM:-0500
TZOFFSETTO:-0600
TZNAME:CST
DTSTART:20261101T070000
END:STANDARD
END:VTIMEZONE
BEGIN:VEVENT
DTSTART;VALUE=DATE:20250914
DTEND;VALUE=DATE:20250918
DTSTAMP:20260422T003808
CREATED:20250822T154712Z
LAST-MODIFIED:20250822T154712Z
UID:30565-1757808000-1758153599@www.sikich.com
SUMMARY:IEDC Annual Conference 2025
DESCRIPTION:Make plans to attend the 2025 IEDC Annual Conference in Detroit\, MI from September 14–17. This premier event brings together leading economic development practitioners and thought leaders from around the world to share ideas\, strategies\, and success stories that are shaping the future of the profession. \nBe sure to visit Sikich’s booth #203 at IEDC to see how we’re helping communities take their economic development efforts to the next level. Chat with our expert about the Cloud Nine Economic Development™ platform\, built for Microsoft Dynamics CRM\, and designed specifically to meet the unique needs of EDOs. Discover how bringing your data and processes into one intelligent system can support business attraction\, workforce development\, and long-term community growth. \nSikich representative: Jordan Gilley \nRegister Here:\nhttps://detroit.iedconline.org/
URL:https://www.sikich.com/event/iedc-annual-conference-2025/
LOCATION:Huntington Place Convention Center\, 1 Washington Boulevard\, Detroit\, MI\, 48226\, United States
CATEGORIES:Conferences & Trade
ATTACH;FMTTYPE=image/png:https://www.sikich.com/wp-content/uploads/2025/08/2025-IEDC-Logo.png
END:VEVENT
END:VCALENDAR