BEGIN:VCALENDAR
VERSION:2.0
PRODID:-//Sikich - ECPv6.15.19//NONSGML v1.0//EN
CALSCALE:GREGORIAN
METHOD:PUBLISH
X-ORIGINAL-URL:https://www.sikich.com
X-WR-CALDESC:Events for Sikich
REFRESH-INTERVAL;VALUE=DURATION:PT1H
X-Robots-Tag:noindex
X-PUBLISHED-TTL:PT1H
BEGIN:VTIMEZONE
TZID:America/Chicago
BEGIN:DAYLIGHT
TZOFFSETFROM:-0600
TZOFFSETTO:-0500
TZNAME:CDT
DTSTART:20240310T080000
END:DAYLIGHT
BEGIN:STANDARD
TZOFFSETFROM:-0500
TZOFFSETTO:-0600
TZNAME:CST
DTSTART:20241103T070000
END:STANDARD
BEGIN:DAYLIGHT
TZOFFSETFROM:-0600
TZOFFSETTO:-0500
TZNAME:CDT
DTSTART:20250309T080000
END:DAYLIGHT
BEGIN:STANDARD
TZOFFSETFROM:-0500
TZOFFSETTO:-0600
TZNAME:CST
DTSTART:20251102T070000
END:STANDARD
BEGIN:DAYLIGHT
TZOFFSETFROM:-0600
TZOFFSETTO:-0500
TZNAME:CDT
DTSTART:20260308T080000
END:DAYLIGHT
BEGIN:STANDARD
TZOFFSETFROM:-0500
TZOFFSETTO:-0600
TZNAME:CST
DTSTART:20261101T070000
END:STANDARD
END:VTIMEZONE
BEGIN:VEVENT
DTSTART;TZID=America/Chicago:20250813T080000
DTEND;TZID=America/Chicago:20250813T090000
DTSTAMP:20260422T021351
CREATED:20250728T181834Z
LAST-MODIFIED:20250728T181834Z
UID:30182-1755072000-1755075600@www.sikich.com
SUMMARY:Breaking Down the One Big Beautiful Bill Act's M&A Tax Provisions
DESCRIPTION:The newly enacted One Big Beautiful Bill Act includes several Internal Revenue Code amendments that could significantly impact M&A transactions. Our Transaction Advisory Services team will walk you through what’s changed\, what’s stayed put and where the planning opportunities lie. \nWe’ll cover the followings topics (and more): \n\nSection 1202 capital gain exclusion\nBonus depreciation and immediate expensing\nState and local (SALT) deductions\nDeductibility of research and experimental (R&E) costs\nLimitation on interest expense deduction\n\nThis webinar is eligible for 1.0 CPE. \nREGISTER NOW >>
URL:https://www.sikich.com/event/breaking-down-the-one-big-beautiful-bill-acts-ma-tax-provisions/
LOCATION:Virtual
CATEGORIES:Virtual,Webinar
ATTACH;FMTTYPE=image/jpeg:https://www.sikich.com/wp-content/uploads/2025/04/Taxes-Two-Step-Article-Thumb.jpg
END:VEVENT
BEGIN:VEVENT
DTSTART;TZID=America/Chicago:20250813T120000
DTEND;TZID=America/Chicago:20250813T130000
DTSTAMP:20260422T021351
CREATED:20250630T181813Z
LAST-MODIFIED:20250630T181813Z
UID:29758-1755086400-1755090000@www.sikich.com
SUMMARY:Fraud Considerations in Financial and Compliance Audits for Not-For-Profits
DESCRIPTION:Fraud can have a lasting impact on a not-for-profit’s mission\, funding and reputation – but it can be prevented with the right knowledge. Join us for a practical and eye-opening session for not-for-profit leaders\, finance teams and grant recipients. \nIn this session\, our experts will: \n\nUncover the most common fraud schemes targeting not-for-profits\nShare actionable strategies to strengthen your internal controls\nClarify your response as a grantee\nDebunk myths around the auditor’s role in detecting fraud\nExplain how fraud reporting could affect your organization\n\nYou’ll walk away better prepared to protect your mission and maintain donor and stakeholder trust. \nThis webinar is eligible for 1.0 CPE. \nREGISTER >>
URL:https://www.sikich.com/event/fraud-considerations-financial-compliance-audits-for-notforprofits/
LOCATION:Virtual
CATEGORIES:Not-For-Profit,Virtual,Webinar
ATTACH;FMTTYPE=image/jpeg:https://www.sikich.com/wp-content/uploads/2025/06/AdobeStock_284680507-scaled.jpeg
END:VEVENT
END:VCALENDAR