BEGIN:VCALENDAR
VERSION:2.0
PRODID:-//Sikich - ECPv6.15.19//NONSGML v1.0//EN
CALSCALE:GREGORIAN
METHOD:PUBLISH
X-ORIGINAL-URL:https://www.sikich.com
X-WR-CALDESC:Events for Sikich
REFRESH-INTERVAL;VALUE=DURATION:PT1H
X-Robots-Tag:noindex
X-PUBLISHED-TTL:PT1H
BEGIN:VTIMEZONE
TZID:America/New_York
BEGIN:DAYLIGHT
TZOFFSETFROM:-0500
TZOFFSETTO:-0400
TZNAME:EDT
DTSTART:20240310T070000
END:DAYLIGHT
BEGIN:STANDARD
TZOFFSETFROM:-0400
TZOFFSETTO:-0500
TZNAME:EST
DTSTART:20241103T060000
END:STANDARD
BEGIN:DAYLIGHT
TZOFFSETFROM:-0500
TZOFFSETTO:-0400
TZNAME:EDT
DTSTART:20250309T070000
END:DAYLIGHT
BEGIN:STANDARD
TZOFFSETFROM:-0400
TZOFFSETTO:-0500
TZNAME:EST
DTSTART:20251102T060000
END:STANDARD
BEGIN:DAYLIGHT
TZOFFSETFROM:-0500
TZOFFSETTO:-0400
TZNAME:EDT
DTSTART:20260308T070000
END:DAYLIGHT
BEGIN:STANDARD
TZOFFSETFROM:-0400
TZOFFSETTO:-0500
TZNAME:EST
DTSTART:20261101T060000
END:STANDARD
END:VTIMEZONE
BEGIN:VEVENT
DTSTART;TZID=America/New_York:20250812T110000
DTEND;TZID=America/New_York:20250812T120000
DTSTAMP:20260420T185451
CREATED:20250710T190101Z
LAST-MODIFIED:20250710T190101Z
UID:30012-1754996400-1755000000@www.sikich.com
SUMMARY:The MITRE ATT&CK Framework and Your Pentest Webinar
DESCRIPTION:Everyone is talking about the MITRE ATT&CK® Framework. Auditors are encouraging you to align your controls and test against them. But where do you start? \nIn this webinar\, we will briefly introduce the MITRE ATT&CK® Framework and then discuss how you can use it to guide your penetration testing (pentest)\, identify your gaps using ATT&CK Navigator and streamline your remediation efforts. \nDuring this webinar\, Sikich will provide an overview of pentesting\, a form of ethical hacking\, as well as a brief introduction to the MITRE ATT&CK® Framework and tools. We’ll also cover how the MITRE ATT&CK® Framework can: \n\nGuide your pentest\nIdentify gaps using these tactics\, techniques and procedures\nStreamline your remediation efforts\nMeasure your security program\n\nRegister Today!
URL:https://www.sikich.com/event/the-mitre-attck-framework-and-your-pentest-webinar/
LOCATION:PA
CATEGORIES:Technology,Webinar
END:VEVENT
END:VCALENDAR