BEGIN:VCALENDAR
VERSION:2.0
PRODID:-//Sikich - ECPv6.15.19//NONSGML v1.0//EN
CALSCALE:GREGORIAN
METHOD:PUBLISH
X-ORIGINAL-URL:https://www.sikich.com
X-WR-CALDESC:Events for Sikich
REFRESH-INTERVAL;VALUE=DURATION:PT1H
X-Robots-Tag:noindex
X-PUBLISHED-TTL:PT1H
BEGIN:VTIMEZONE
TZID:America/Chicago
BEGIN:DAYLIGHT
TZOFFSETFROM:-0600
TZOFFSETTO:-0500
TZNAME:CDT
DTSTART:20240310T080000
END:DAYLIGHT
BEGIN:STANDARD
TZOFFSETFROM:-0500
TZOFFSETTO:-0600
TZNAME:CST
DTSTART:20241103T070000
END:STANDARD
BEGIN:DAYLIGHT
TZOFFSETFROM:-0600
TZOFFSETTO:-0500
TZNAME:CDT
DTSTART:20250309T080000
END:DAYLIGHT
BEGIN:STANDARD
TZOFFSETFROM:-0500
TZOFFSETTO:-0600
TZNAME:CST
DTSTART:20251102T070000
END:STANDARD
BEGIN:DAYLIGHT
TZOFFSETFROM:-0600
TZOFFSETTO:-0500
TZNAME:CDT
DTSTART:20260308T080000
END:DAYLIGHT
BEGIN:STANDARD
TZOFFSETFROM:-0500
TZOFFSETTO:-0600
TZNAME:CST
DTSTART:20261101T070000
END:STANDARD
END:VTIMEZONE
BEGIN:VEVENT
DTSTART;TZID=America/Chicago:20250716T120000
DTEND;TZID=America/Chicago:20250716T130000
DTSTAMP:20260422T034747
CREATED:20250217T193540Z
LAST-MODIFIED:20250217T193540Z
UID:27441-1752667200-1752670800@www.sikich.com
SUMMARY:2025 Yellowbook Series: Session 6 - Compensated Absences
DESCRIPTION:This session focuses on accounting for compensated absences and the recent changes under GASB-101\, and GASB-100 considerations when implementing GASB-101.\nIncluding lessons learned and examples from early implementations at other organizations. \nThis webinar is eligible for 1.0 CPE. \nRegister >>
URL:https://www.sikich.com/event/2025-yellowbook-series-session-6-compensated-absences/
LOCATION:Virtual
CATEGORIES:Government,Virtual,Webinar
END:VEVENT
END:VCALENDAR