BEGIN:VCALENDAR
VERSION:2.0
PRODID:-//Sikich - ECPv6.15.19//NONSGML v1.0//EN
CALSCALE:GREGORIAN
METHOD:PUBLISH
X-WR-CALNAME:Sikich
X-ORIGINAL-URL:https://www.sikich.com
X-WR-CALDESC:Events for Sikich
REFRESH-INTERVAL;VALUE=DURATION:PT1H
X-Robots-Tag:noindex
X-PUBLISHED-TTL:PT1H
BEGIN:VTIMEZONE
TZID:America/Chicago
BEGIN:DAYLIGHT
TZOFFSETFROM:-0600
TZOFFSETTO:-0500
TZNAME:CDT
DTSTART:20240310T080000
END:DAYLIGHT
BEGIN:STANDARD
TZOFFSETFROM:-0500
TZOFFSETTO:-0600
TZNAME:CST
DTSTART:20241103T070000
END:STANDARD
BEGIN:DAYLIGHT
TZOFFSETFROM:-0600
TZOFFSETTO:-0500
TZNAME:CDT
DTSTART:20250309T080000
END:DAYLIGHT
BEGIN:STANDARD
TZOFFSETFROM:-0500
TZOFFSETTO:-0600
TZNAME:CST
DTSTART:20251102T070000
END:STANDARD
BEGIN:DAYLIGHT
TZOFFSETFROM:-0600
TZOFFSETTO:-0500
TZNAME:CDT
DTSTART:20260308T080000
END:DAYLIGHT
BEGIN:STANDARD
TZOFFSETFROM:-0500
TZOFFSETTO:-0600
TZNAME:CST
DTSTART:20261101T070000
END:STANDARD
END:VTIMEZONE
BEGIN:VEVENT
DTSTART;TZID=America/Chicago:20250709T090000
DTEND;TZID=America/Chicago:20250709T100000
DTSTAMP:20260422T034606
CREATED:20250429T145803Z
LAST-MODIFIED:20250702T152413Z
UID:28833-1752051600-1752055200@www.sikich.com
SUMMARY:Accelerating Time to Compliance for CMMC Webinar
DESCRIPTION:As the Department of Defense (DoD) continues to push toward enforcing Cybersecurity Maturity Model Certification (CMMC) standards\, organizations in the defense industrial base are under mounting pressure to demonstrate compliance quickly and effectively. This webinar is designed to help you better understand how to accelerate your path to CMMC compliance. \nJoin Sikich and A-LIGN for a discussion on aligning your current security practices with CMMC expectations and how to streamline your compliance journey. \nYou’ll also get a closer look at Sikich’s CMMC STARS Program which assists organizations with identifying gaps early\, building stronger processes\, and preparing for compliance with confidence. Whether you’re new to CMMC or deep into your readiness journey\, this session will provide actionable insights to support long-term success. Join us on Wednesday\, July 9th at 9am CT/10am ET to learn how to fast-track your compliance. \nThis session will equip you with practical insights\, real-world examples\, and actionable steps to fast-track your compliance without sacrificing resilience or performance. \nKey Takeaways\n\nUnderstand the CMMC compliance landscape and the latest updates\nLearn how rapid compliance can drive business growth and competitive positioning\nSee how integrated tools and services reduce compliance timelines\nDiscover case studies of successful accelerated compliance journeys\n\nWhether you’re just starting your CMMC journey or preparing for certification\, this is a must-see webinar!  \nRegister Today!
URL:https://www.sikich.com/event/accelerating-time-to-compliance-for-cmmc-webinar/
LOCATION:PA
CATEGORIES:Technology,Webinar
ATTACH;FMTTYPE=image/jpeg:https://www.sikich.com/wp-content/uploads/2025/04/CMMCwebinar.jpg
END:VEVENT
END:VCALENDAR