BEGIN:VCALENDAR
VERSION:2.0
PRODID:-//Sikich - ECPv6.15.19//NONSGML v1.0//EN
CALSCALE:GREGORIAN
METHOD:PUBLISH
X-WR-CALNAME:Sikich
X-ORIGINAL-URL:https://www.sikich.com
X-WR-CALDESC:Events for Sikich
REFRESH-INTERVAL;VALUE=DURATION:PT1H
X-Robots-Tag:noindex
X-PUBLISHED-TTL:PT1H
BEGIN:VTIMEZONE
TZID:America/Chicago
BEGIN:DAYLIGHT
TZOFFSETFROM:-0600
TZOFFSETTO:-0500
TZNAME:CDT
DTSTART:20240310T080000
END:DAYLIGHT
BEGIN:STANDARD
TZOFFSETFROM:-0500
TZOFFSETTO:-0600
TZNAME:CST
DTSTART:20241103T070000
END:STANDARD
BEGIN:DAYLIGHT
TZOFFSETFROM:-0600
TZOFFSETTO:-0500
TZNAME:CDT
DTSTART:20250309T080000
END:DAYLIGHT
BEGIN:STANDARD
TZOFFSETFROM:-0500
TZOFFSETTO:-0600
TZNAME:CST
DTSTART:20251102T070000
END:STANDARD
BEGIN:DAYLIGHT
TZOFFSETFROM:-0600
TZOFFSETTO:-0500
TZNAME:CDT
DTSTART:20260308T080000
END:DAYLIGHT
BEGIN:STANDARD
TZOFFSETFROM:-0500
TZOFFSETTO:-0600
TZNAME:CST
DTSTART:20261101T070000
END:STANDARD
END:VTIMEZONE
BEGIN:VEVENT
DTSTART;TZID=America/Chicago:20250618T120000
DTEND;TZID=America/Chicago:20250618T130000
DTSTAMP:20260421T194642
CREATED:20250217T192915Z
LAST-MODIFIED:20250217T192952Z
UID:27438-1750248000-1750251600@www.sikich.com
SUMMARY:2025 Yellowbook Webinar Series: Session 5 - Fund Balance/Net Position Accounting and Reporting
DESCRIPTION:Join our Sikich experts as they delve deep into the essential principles of governmental fund balance accounting and reporting. This session will provide a detailed overview of fund classifications and accounting for restricted\, committed and assigned fund balances. \nThis webinar is eligible for 1.0 CPE.  \nRegister >>
URL:https://www.sikich.com/event/2025-yellowbook-webinar-series-session-5-fund-balance-net-position-accounting-and-reporting/
LOCATION:Virtual
CATEGORIES:Accounting,Government,Virtual,Webinar
END:VEVENT
END:VCALENDAR