BEGIN:VCALENDAR
VERSION:2.0
PRODID:-//Sikich - ECPv6.15.19//NONSGML v1.0//EN
CALSCALE:GREGORIAN
METHOD:PUBLISH
X-WR-CALNAME:Sikich
X-ORIGINAL-URL:https://www.sikich.com
X-WR-CALDESC:Events for Sikich
REFRESH-INTERVAL;VALUE=DURATION:PT1H
X-Robots-Tag:noindex
X-PUBLISHED-TTL:PT1H
BEGIN:VTIMEZONE
TZID:America/Chicago
BEGIN:DAYLIGHT
TZOFFSETFROM:-0600
TZOFFSETTO:-0500
TZNAME:CDT
DTSTART:20240310T080000
END:DAYLIGHT
BEGIN:STANDARD
TZOFFSETFROM:-0500
TZOFFSETTO:-0600
TZNAME:CST
DTSTART:20241103T070000
END:STANDARD
BEGIN:DAYLIGHT
TZOFFSETFROM:-0600
TZOFFSETTO:-0500
TZNAME:CDT
DTSTART:20250309T080000
END:DAYLIGHT
BEGIN:STANDARD
TZOFFSETFROM:-0500
TZOFFSETTO:-0600
TZNAME:CST
DTSTART:20251102T070000
END:STANDARD
BEGIN:DAYLIGHT
TZOFFSETFROM:-0600
TZOFFSETTO:-0500
TZNAME:CDT
DTSTART:20260308T080000
END:DAYLIGHT
BEGIN:STANDARD
TZOFFSETFROM:-0500
TZOFFSETTO:-0600
TZNAME:CST
DTSTART:20261101T070000
END:STANDARD
END:VTIMEZONE
BEGIN:VEVENT
DTSTART;TZID=America/Chicago:20250612T100000
DTEND;TZID=America/Chicago:20250612T120000
DTSTAMP:20260421T194636
CREATED:20250508T183240Z
LAST-MODIFIED:20250508T183240Z
UID:29039-1749722400-1749729600@www.sikich.com
SUMMARY:Transforming Risk Into Opportunity
DESCRIPTION:Join Sikich for an engaging and practical webinar\, “Transforming Risk into Opportunity\,” where we’ll explore how forward-looking organizations are turning compliance\, cybersecurity\, and enterprise risk management into engines of growth and competitive differentiation. \nWhether you’re a CIO\, compliance lead\, or executive decision-maker\, join us on Thursday\, June 12th at 10am CT/11am ET to learn actionable strategies to turn risk into resilience—and compliance into a competitive advantage. \nTurn Risk into Resilience\nThrough real-world case studies and expert insights\, you’ll discover:\n\n\nWhy faster time to compliance gives companies a strategic edge\nHow to move from reactive to proactive risk management\nWhat tools—like AI-driven assessments\, Governance Frameworks\, and strategic dashboards—can do to accelerate your compliance journey\nA step-by-step framework for identifying risk\, aligning leadership\, and driving measurable business impact\n\nRegister Today!
URL:https://www.sikich.com/event/transforming-risk-into-opportunity/
LOCATION:PA
CATEGORIES:Technology,Webinar
ATTACH;FMTTYPE=image/jpeg:https://www.sikich.com/wp-content/uploads/2025/05/CMMCwebinar.jpg
END:VEVENT
END:VCALENDAR