BEGIN:VCALENDAR
VERSION:2.0
PRODID:-//Sikich - ECPv6.15.19//NONSGML v1.0//EN
CALSCALE:GREGORIAN
METHOD:PUBLISH
X-ORIGINAL-URL:https://www.sikich.com
X-WR-CALDESC:Events for Sikich
REFRESH-INTERVAL;VALUE=DURATION:PT1H
X-Robots-Tag:noindex
X-PUBLISHED-TTL:PT1H
BEGIN:VTIMEZONE
TZID:America/Chicago
BEGIN:DAYLIGHT
TZOFFSETFROM:-0600
TZOFFSETTO:-0500
TZNAME:CDT
DTSTART:20240310T080000
END:DAYLIGHT
BEGIN:STANDARD
TZOFFSETFROM:-0500
TZOFFSETTO:-0600
TZNAME:CST
DTSTART:20241103T070000
END:STANDARD
BEGIN:DAYLIGHT
TZOFFSETFROM:-0600
TZOFFSETTO:-0500
TZNAME:CDT
DTSTART:20250309T080000
END:DAYLIGHT
BEGIN:STANDARD
TZOFFSETFROM:-0500
TZOFFSETTO:-0600
TZNAME:CST
DTSTART:20251102T070000
END:STANDARD
BEGIN:DAYLIGHT
TZOFFSETFROM:-0600
TZOFFSETTO:-0500
TZNAME:CDT
DTSTART:20260308T080000
END:DAYLIGHT
BEGIN:STANDARD
TZOFFSETFROM:-0500
TZOFFSETTO:-0600
TZNAME:CST
DTSTART:20261101T070000
END:STANDARD
END:VTIMEZONE
BEGIN:VEVENT
DTSTART;VALUE=DATE:20250513
DTEND;VALUE=DATE:20250516
DTSTAMP:20260421T100535
CREATED:20250213T163432Z
LAST-MODIFIED:20250213T163432Z
UID:27377-1747094400-1747353599@www.sikich.com
SUMMARY:DynamicsCon 2025
DESCRIPTION:We’re excited to announce that our experts will be presenting at DynamicsCon 2025\, a premier conference for the Microsoft Dynamics community\, taking place May 13-15\, 2025\, in Chicago\, IL.   \nAlthough we’re not official sponsors\, we’re thrilled to bring our expertise to the stage with three impactful sessions designed to empower your business.  \nOOB Data Tools: The Who\, What\, When\, Where\, Why\, and How\nLearn how to make the most of out-of-the-box (OOB) data tools to unlock the full potential of your Dynamics solution.   \nPresented by: Blaine Grzegorek\, CPA  \nDate: Thursday 5/15  \nTime: 8:30 – 9:30 AM  \nLocation: Grand Ballroom MN – East Tower  \nUnlock the Power of AI and Cloud ERP\nDiscover how AI and cloud-based ERP systems can drive efficiency\, growth\, and innovation within your organization.  \nPresented by: Mike Loumeau  \nDate: Thursday 5/15  \nTime: 9:45 – 10:45 AM  \nLocation: Toronto – West Tower  \nMicrosoft Dynamics 365 BC or F&SC: Which ERP is Right for Me?\nNavigate the complexities of ERP selection with this in-depth comparison of Dynamics 365 Business Central and Finance & Supply Chain Management.  \nPresented by: Mike Loumeau & Blaine Grzegorek\, CPA  \nDate: Friday\, 5/16  \nTime: 10:15 – 11:15 AM  \nLocation: Crystal Ballroom C – West Tower  \nDon’t miss this opportunity to connect with our experts and gain valuable insights to optimize your Microsoft Dynamics investment. Register here.  \nPlease fill out this quick survey to let us know if you’re attending DynamicsCon 2025 and are interested in joining us for a fun networking dinner in Chicago. Hope to see you there!  \n 
URL:https://www.sikich.com/event/dynamicscon-2025/
LOCATION:Hyatt Regency Chicago\, 151 East Wacker Drive\, Chicago\, IL\, 60561\, United States
ATTACH;FMTTYPE=image/png:https://www.sikich.com/wp-content/uploads/2025/02/DynamicsCon-2025-Logo.png
END:VEVENT
BEGIN:VEVENT
DTSTART;TZID=America/Chicago:20250514T120000
DTEND;TZID=America/Chicago:20250514T130000
DTSTAMP:20260421T100535
CREATED:20250217T192221Z
LAST-MODIFIED:20250217T192221Z
UID:27436-1747224000-1747227600@www.sikich.com
SUMMARY:2025 Yellowbook Webinar Series: Session 4 - GASB Part 2
DESCRIPTION:This is a continuation of our session on GASB statements that coming into effect for units of government. This session will cover the requirements of GASB Statement 100\, 101 and other updates from the GASB. \nThis webinar is eligible for 1.0 CPE. \nRegister >>
URL:https://www.sikich.com/event/2025-yellowbook-webinar-series-session-4-gasb-part-2/
LOCATION:Virtual
CATEGORIES:Accounting,Government,Virtual,Webinar
END:VEVENT
END:VCALENDAR