BEGIN:VCALENDAR
VERSION:2.0
PRODID:-//Sikich - ECPv6.15.19//NONSGML v1.0//EN
CALSCALE:GREGORIAN
METHOD:PUBLISH
X-WR-CALNAME:Sikich
X-ORIGINAL-URL:https://www.sikich.com
X-WR-CALDESC:Events for Sikich
REFRESH-INTERVAL;VALUE=DURATION:PT1H
X-Robots-Tag:noindex
X-PUBLISHED-TTL:PT1H
BEGIN:VTIMEZONE
TZID:America/Chicago
BEGIN:DAYLIGHT
TZOFFSETFROM:-0600
TZOFFSETTO:-0500
TZNAME:CDT
DTSTART:20240310T080000
END:DAYLIGHT
BEGIN:STANDARD
TZOFFSETFROM:-0500
TZOFFSETTO:-0600
TZNAME:CST
DTSTART:20241103T070000
END:STANDARD
BEGIN:DAYLIGHT
TZOFFSETFROM:-0600
TZOFFSETTO:-0500
TZNAME:CDT
DTSTART:20250309T080000
END:DAYLIGHT
BEGIN:STANDARD
TZOFFSETFROM:-0500
TZOFFSETTO:-0600
TZNAME:CST
DTSTART:20251102T070000
END:STANDARD
BEGIN:DAYLIGHT
TZOFFSETFROM:-0600
TZOFFSETTO:-0500
TZNAME:CDT
DTSTART:20260308T080000
END:DAYLIGHT
BEGIN:STANDARD
TZOFFSETFROM:-0500
TZOFFSETTO:-0600
TZNAME:CST
DTSTART:20261101T070000
END:STANDARD
END:VTIMEZONE
BEGIN:VEVENT
DTSTART;TZID=America/Chicago:20250305T120000
DTEND;TZID=America/Chicago:20250305T130000
DTSTAMP:20260421T110121
CREATED:20250212T165413Z
LAST-MODIFIED:20250212T165413Z
UID:27323-1741176000-1741179600@www.sikich.com
SUMMARY:Safeguard Your Mission: Strengthening Internal Controls for Not-For-Profits
DESCRIPTION:The board of directors\, audit committee and executive team are essential leaders in the corporate governance process. Robust internal controls and systems are critical in helping organizations achieve their objectives\, maintain smooth operations and protect stakeholder interests. \nJoin us on March 5 for our webinar\, where Sikich’s internal audit experts will discuss effective strategies to mitigate risk and safeguard your organization. We’ll cover: \n\nHow internal controls ensure compliance with laws and regulations\nThe internal control review conducted during your annual external audit: what is included and what is not\nKey internal controls that support operational efficiency\, reliable financial reporting and IT security\nThe critical role of assessing and maintaining effective internal controls\, including recommendations for segregation of duties with limited resources\n\nThis session is specially designed for:\n\n\nNot-for-Profit CEOs\, Executive Directors\, Finance Executives and Board Members\nAll not-for-profit organizations\, particularly those subject to government auditing standard\n\nThis webinar is eligible for 1.0 CPE. \n\nREGISTER
URL:https://www.sikich.com/event/safeguard-your-mission-strengthening-internal-controls-for-not-for-profits/
LOCATION:Virtual
CATEGORIES:Not-For-Profit,Virtual,Webinar
END:VEVENT
END:VCALENDAR