BEGIN:VCALENDAR
VERSION:2.0
PRODID:-//Sikich - ECPv6.15.19//NONSGML v1.0//EN
CALSCALE:GREGORIAN
METHOD:PUBLISH
X-ORIGINAL-URL:https://www.sikich.com
X-WR-CALDESC:Events for Sikich
REFRESH-INTERVAL;VALUE=DURATION:PT1H
X-Robots-Tag:noindex
X-PUBLISHED-TTL:PT1H
BEGIN:VTIMEZONE
TZID:America/Chicago
BEGIN:DAYLIGHT
TZOFFSETFROM:-0600
TZOFFSETTO:-0500
TZNAME:CDT
DTSTART:20240310T080000
END:DAYLIGHT
BEGIN:STANDARD
TZOFFSETFROM:-0500
TZOFFSETTO:-0600
TZNAME:CST
DTSTART:20241103T070000
END:STANDARD
BEGIN:DAYLIGHT
TZOFFSETFROM:-0600
TZOFFSETTO:-0500
TZNAME:CDT
DTSTART:20250309T080000
END:DAYLIGHT
BEGIN:STANDARD
TZOFFSETFROM:-0500
TZOFFSETTO:-0600
TZNAME:CST
DTSTART:20251102T070000
END:STANDARD
BEGIN:DAYLIGHT
TZOFFSETFROM:-0600
TZOFFSETTO:-0500
TZNAME:CDT
DTSTART:20260308T080000
END:DAYLIGHT
BEGIN:STANDARD
TZOFFSETFROM:-0500
TZOFFSETTO:-0600
TZNAME:CST
DTSTART:20261101T070000
END:STANDARD
END:VTIMEZONE
BEGIN:VEVENT
DTSTART;TZID=America/Chicago:20250227T080000
DTEND;TZID=America/Chicago:20250227T090000
DTSTAMP:20260421T110120
CREATED:20250207T160723Z
LAST-MODIFIED:20250207T160723Z
UID:27216-1740643200-1740646800@www.sikich.com
SUMMARY:Navigating Possible Tax Legislation and IRS Updates
DESCRIPTION:Join Sikich tax experts for an insightful session about the latest on proposed tax legislation in Washington regarding the extension of the tax cuts under the Tax Cuts and jobs Act (TCJA)\, as well as other proposals that could impact businesses and individuals. Our session will also cover key updates and recent court cases to help you stay informed and prepared. \nKey topics will include: \n\nThe status and outlook of tax legislation in Congress on expiring income and estate tax provisions from the TCJA\nUpdates on new tax proposals introduced during the 2024 presidential campaign\nRecent IRS developments\, regulatory changes and court rulings impacting taxpayers\n\nThis webinar is eligible for 1.0 CPE.  \nREGISTER NOW
URL:https://www.sikich.com/event/navigating-possible-tax-legislation-and-irs-updates/
LOCATION:Virtual
CATEGORIES:Tax,Virtual,Webinar
END:VEVENT
END:VCALENDAR