BEGIN:VCALENDAR
VERSION:2.0
PRODID:-//Sikich - ECPv6.15.19//NONSGML v1.0//EN
CALSCALE:GREGORIAN
METHOD:PUBLISH
X-ORIGINAL-URL:https://www.sikich.com
X-WR-CALDESC:Events for Sikich
REFRESH-INTERVAL;VALUE=DURATION:PT1H
X-Robots-Tag:noindex
X-PUBLISHED-TTL:PT1H
BEGIN:VTIMEZONE
TZID:America/Chicago
BEGIN:DAYLIGHT
TZOFFSETFROM:-0600
TZOFFSETTO:-0500
TZNAME:CDT
DTSTART:20240310T080000
END:DAYLIGHT
BEGIN:STANDARD
TZOFFSETFROM:-0500
TZOFFSETTO:-0600
TZNAME:CST
DTSTART:20241103T070000
END:STANDARD
BEGIN:DAYLIGHT
TZOFFSETFROM:-0600
TZOFFSETTO:-0500
TZNAME:CDT
DTSTART:20250309T080000
END:DAYLIGHT
BEGIN:STANDARD
TZOFFSETFROM:-0500
TZOFFSETTO:-0600
TZNAME:CST
DTSTART:20251102T070000
END:STANDARD
BEGIN:DAYLIGHT
TZOFFSETFROM:-0600
TZOFFSETTO:-0500
TZNAME:CDT
DTSTART:20260308T080000
END:DAYLIGHT
BEGIN:STANDARD
TZOFFSETFROM:-0500
TZOFFSETTO:-0600
TZNAME:CST
DTSTART:20261101T070000
END:STANDARD
END:VTIMEZONE
BEGIN:VEVENT
DTSTART;TZID=America/Chicago:20250212T120000
DTEND;TZID=America/Chicago:20250212T130000
DTSTAMP:20260422T042717
CREATED:20241218T202406Z
LAST-MODIFIED:20241218T202519Z
UID:26372-1739361600-1739365200@www.sikich.com
SUMMARY:Roses are Red\, Audits are Due: Strategies for Employee Benefit Plan Audit Filing Success
DESCRIPTION:A lack of documented and implemented processes and controls surrounding payroll and other plan administration practices is leading to a range of errors and compliance issues within employee benefit plans. Payroll fraud schemes are among the most common forms of occupational fraud worldwide\, according to the Association of Certified Fraud Examiners (ACFE). These challenges result in significant risks including costly penalties and operational inefficiencies. For enhanced accuracy\, efficiency and compliance within employee benefit plans\, Artificial Intelligence (AI) offers solutions and is reshaping how organizations approach these audits. \nJoin our webinar\, where our employee benefit plan experts will discuss these transformative technologies\, what to anticipate in your 2024 plan year audit and how to establish stronger controls over your payroll and other plan procedures. We’ll cover: \n\nThe role of AI in employee benefit plan audits\nProcesses and controls to reduce errors in payroll processing and contribution remittances\nSECURE 2.0 and potential implementation pitfalls\nStrategies for an effective and efficient audit process\n\nThis webinar is eligible for 1.0 CPE.  \nREGISTER NOW
URL:https://www.sikich.com/event/roses-are-red-audits-are-due-strategies-for-employee-benefit-plan-audit-filing-success/
LOCATION:Virtual
CATEGORIES:Webinar
END:VEVENT
END:VCALENDAR