BEGIN:VCALENDAR
VERSION:2.0
PRODID:-//Sikich - ECPv6.15.19//NONSGML v1.0//EN
CALSCALE:GREGORIAN
METHOD:PUBLISH
X-ORIGINAL-URL:https://www.sikich.com
X-WR-CALDESC:Events for Sikich
REFRESH-INTERVAL;VALUE=DURATION:PT1H
X-Robots-Tag:noindex
X-PUBLISHED-TTL:PT1H
BEGIN:VTIMEZONE
TZID:America/Chicago
BEGIN:DAYLIGHT
TZOFFSETFROM:-0600
TZOFFSETTO:-0500
TZNAME:CDT
DTSTART:20240310T080000
END:DAYLIGHT
BEGIN:STANDARD
TZOFFSETFROM:-0500
TZOFFSETTO:-0600
TZNAME:CST
DTSTART:20241103T070000
END:STANDARD
BEGIN:DAYLIGHT
TZOFFSETFROM:-0600
TZOFFSETTO:-0500
TZNAME:CDT
DTSTART:20250309T080000
END:DAYLIGHT
BEGIN:STANDARD
TZOFFSETFROM:-0500
TZOFFSETTO:-0600
TZNAME:CST
DTSTART:20251102T070000
END:STANDARD
BEGIN:DAYLIGHT
TZOFFSETFROM:-0600
TZOFFSETTO:-0500
TZNAME:CDT
DTSTART:20260308T080000
END:DAYLIGHT
BEGIN:STANDARD
TZOFFSETFROM:-0500
TZOFFSETTO:-0600
TZNAME:CST
DTSTART:20261101T070000
END:STANDARD
END:VTIMEZONE
BEGIN:VEVENT
DTSTART;TZID=America/Chicago:20250122T120000
DTEND;TZID=America/Chicago:20250122T130000
DTSTAMP:20260421T165135
CREATED:20241211T204951Z
LAST-MODIFIED:20241211T205238Z
UID:26273-1737547200-1737550800@www.sikich.com
SUMMARY:Building a Dream Team: 5 Steps to Developing an Effective Onboarding Strategy
DESCRIPTION:Effective onboarding is much more than a one-day orientation – it’s a critical strategy that sets the tone for long-term success. In this webinar\, Sikich HR experts are diving deep into the essential components of impactful onboarding strategies and processes. From pre-boarding activities that prepare new hires before their first day\, to ongoing engagement practices that keep them motivated and productive\, you’ll learn how to design a structured approach that fosters productivity\, strengthens employee connection and boosts retention. \nJoin us on January 22 to discover practical\, actionable insights and best practices that will help you build a seamless and memorable onboarding experience for your new hires. We’ll cover everything you need to know to create the onboarding process that helps your dream team get up to speed quickly while also setting them up for long-term success. \nThis session will be beneficial for business and HR leaders\, talent acquisition professionals and managers with hiring responsibilities. Whether you’re looking to overhaul your current onboarding process or fine-tune an already successful one\, this webinar will provide valuable knowledge tailored to your role. \nThis webinar is eligible for 1.0 CPE\, 1.0 HRCI.  \nREGISTER NOW
URL:https://www.sikich.com/event/building-a-dream-team-5-steps-to-developing-an-effective-onboarding-strategy/
LOCATION:Virtual
CATEGORIES:Human Resources
END:VEVENT
END:VCALENDAR