BEGIN:VCALENDAR
VERSION:2.0
PRODID:-//Sikich - ECPv6.15.19//NONSGML v1.0//EN
CALSCALE:GREGORIAN
METHOD:PUBLISH
X-ORIGINAL-URL:https://www.sikich.com
X-WR-CALDESC:Events for Sikich
REFRESH-INTERVAL;VALUE=DURATION:PT1H
X-Robots-Tag:noindex
X-PUBLISHED-TTL:PT1H
BEGIN:VTIMEZONE
TZID:America/Chicago
BEGIN:DAYLIGHT
TZOFFSETFROM:-0600
TZOFFSETTO:-0500
TZNAME:CDT
DTSTART:20230312T080000
END:DAYLIGHT
BEGIN:STANDARD
TZOFFSETFROM:-0500
TZOFFSETTO:-0600
TZNAME:CST
DTSTART:20231105T070000
END:STANDARD
BEGIN:DAYLIGHT
TZOFFSETFROM:-0600
TZOFFSETTO:-0500
TZNAME:CDT
DTSTART:20240310T080000
END:DAYLIGHT
BEGIN:STANDARD
TZOFFSETFROM:-0500
TZOFFSETTO:-0600
TZNAME:CST
DTSTART:20241103T070000
END:STANDARD
BEGIN:DAYLIGHT
TZOFFSETFROM:-0600
TZOFFSETTO:-0500
TZNAME:CDT
DTSTART:20250309T080000
END:DAYLIGHT
BEGIN:STANDARD
TZOFFSETFROM:-0500
TZOFFSETTO:-0600
TZNAME:CST
DTSTART:20251102T070000
END:STANDARD
END:VTIMEZONE
BEGIN:VEVENT
DTSTART;TZID=America/Chicago:20241212T120000
DTEND;TZID=America/Chicago:20241212T130000
DTSTAMP:20260421T134041
CREATED:20241125T204316Z
LAST-MODIFIED:20241125T204356Z
UID:25973-1734004800-1734008400@www.sikich.com
SUMMARY:Renewable Energy Tax Credits Made Simple for Not-For-Profits
DESCRIPTION:Not-for-profit organizations have a unique opportunity to benefit from the Inflation Reduction Act of 2022 (IRA). This legislation was designed to make renewable energy projects more affordable and accelerate the transition to a low-carbon future. \nJoin our webinar on December 12\, where not-for-profit experts from Sikich and Tri-Merit will explore renewable energy tax credits and how they can benefit your organization. We’ll discuss: \n\nThe benefits of renewable energy tax credits for not-for-profit organizations.\nThe eligibility requirements and compliance procedures.\nThe direct pay option under the IRA.\nGuidance on how to apply for and maximize your eligible credits.\nAccounting considerations\, including recognition and disclosure.\n\nThe webinar is eligible for 1.0 CPE. \nREGISTER NOW >>>
URL:https://www.sikich.com/event/renewable-energy-tax-credits-made-simple-for-not-for-profits/
LOCATION:Virtual
CATEGORIES:Not-For-Profit,Virtual,Webinar
END:VEVENT
END:VCALENDAR