BEGIN:VCALENDAR
VERSION:2.0
PRODID:-//Sikich - ECPv6.15.19//NONSGML v1.0//EN
CALSCALE:GREGORIAN
METHOD:PUBLISH
X-ORIGINAL-URL:https://www.sikich.com
X-WR-CALDESC:Events for Sikich
REFRESH-INTERVAL;VALUE=DURATION:PT1H
X-Robots-Tag:noindex
X-PUBLISHED-TTL:PT1H
BEGIN:VTIMEZONE
TZID:America/Chicago
BEGIN:DAYLIGHT
TZOFFSETFROM:-0600
TZOFFSETTO:-0500
TZNAME:CDT
DTSTART:20230312T080000
END:DAYLIGHT
BEGIN:STANDARD
TZOFFSETFROM:-0500
TZOFFSETTO:-0600
TZNAME:CST
DTSTART:20231105T070000
END:STANDARD
BEGIN:DAYLIGHT
TZOFFSETFROM:-0600
TZOFFSETTO:-0500
TZNAME:CDT
DTSTART:20240310T080000
END:DAYLIGHT
BEGIN:STANDARD
TZOFFSETFROM:-0500
TZOFFSETTO:-0600
TZNAME:CST
DTSTART:20241103T070000
END:STANDARD
BEGIN:DAYLIGHT
TZOFFSETFROM:-0600
TZOFFSETTO:-0500
TZNAME:CDT
DTSTART:20250309T080000
END:DAYLIGHT
BEGIN:STANDARD
TZOFFSETFROM:-0500
TZOFFSETTO:-0600
TZNAME:CST
DTSTART:20251102T070000
END:STANDARD
END:VTIMEZONE
BEGIN:VEVENT
DTSTART;TZID=America/Chicago:20241106T080000
DTEND;TZID=America/Chicago:20241106T090000
DTSTAMP:20260421T120946
CREATED:20241014T211502Z
LAST-MODIFIED:20241015T165556Z
UID:25113-1730880000-1730883600@www.sikich.com
SUMMARY:Manufacturers vs. Hackers: Tackling Cybersecurity Threats
DESCRIPTION:As manufacturers adopt emerging technologies like generative AI\, they face new vulnerabilities. Cyber criminals are leveraging these systems to develop increasingly sophisticated methods to infiltrate systems.\n\nJoin Sikich cybersecurity experts on November 6 as they cover essential insights for manufacturing and distribution executives. Key topics will include:\n\n\nWhy the manufacturing industry remains a top target for cyber attacks\nAdvanced tactics and trends for cyber criminals\nPractical\, preventative measures to protect your business\nSteps your company can take to mitigate risk\n\nThis webinar is eligible for 1.0 CPE credit. \nREGISTER NOW >>
URL:https://www.sikich.com/event/manufacturers-vs-hackers-tackling-cybersecurity-threats/
LOCATION:Virtual
END:VEVENT
END:VCALENDAR