BEGIN:VCALENDAR
VERSION:2.0
PRODID:-//Sikich - ECPv6.15.19//NONSGML v1.0//EN
CALSCALE:GREGORIAN
METHOD:PUBLISH
X-ORIGINAL-URL:https://www.sikich.com
X-WR-CALDESC:Events for Sikich
REFRESH-INTERVAL;VALUE=DURATION:PT1H
X-Robots-Tag:noindex
X-PUBLISHED-TTL:PT1H
BEGIN:VTIMEZONE
TZID:America/Chicago
BEGIN:DAYLIGHT
TZOFFSETFROM:-0600
TZOFFSETTO:-0500
TZNAME:CDT
DTSTART:20230312T080000
END:DAYLIGHT
BEGIN:STANDARD
TZOFFSETFROM:-0500
TZOFFSETTO:-0600
TZNAME:CST
DTSTART:20231105T070000
END:STANDARD
BEGIN:DAYLIGHT
TZOFFSETFROM:-0600
TZOFFSETTO:-0500
TZNAME:CDT
DTSTART:20240310T080000
END:DAYLIGHT
BEGIN:STANDARD
TZOFFSETFROM:-0500
TZOFFSETTO:-0600
TZNAME:CST
DTSTART:20241103T070000
END:STANDARD
BEGIN:DAYLIGHT
TZOFFSETFROM:-0600
TZOFFSETTO:-0500
TZNAME:CDT
DTSTART:20250309T080000
END:DAYLIGHT
BEGIN:STANDARD
TZOFFSETFROM:-0500
TZOFFSETTO:-0600
TZNAME:CST
DTSTART:20251102T070000
END:STANDARD
END:VTIMEZONE
BEGIN:VEVENT
DTSTART;VALUE=DATE:20241013
DTEND;VALUE=DATE:20241018
DTSTAMP:20260421T102723
CREATED:20240322T140050Z
LAST-MODIFIED:20240911T163450Z
UID:17412-1728777600-1729209599@www.sikich.com
SUMMARY:2024 Community Summit North America
DESCRIPTION:Join Sikich at Community Summit North America from October 13-17\, 2024\, in San Antonio\, Texas—the ultimate training and education event for Microsoft business applications. \nThis event is tailored for finance\, accounting\, IT\, operations\, and systems administrators featuring 500+ sessions on AI\, Dynamics\, Dynamics 365\, Power Platform\, and more. Participate in a range of engaging sessions\, keynote speeches\, panel discussions\, and interactive exhibits\, providing attendees with valuable insights and opportunities to connect with like-minded individuals. \nSIKICH IS PROUD TO BE A PLATINUM SPONSOR \nBe sure to visit Sikich in booth 1327. Chat with our experts who can guide you through the latest Microsoft solutions specifically tailored to meet your unique business needs. Our knowledgeable team will demonstrate how our partnership with Microsoft empowers us to provide you with comprehensive support and expertise in implementing and optimizing Microsoft business applications to align with your goals. \nWe are excited to offer an exclusive 10% discount on event registration. Don’t miss out on this incredible opportunity to attend this year’s Community Summit North America and explore the latest industry trends and advancements! To claim your discount\, register using the code: Sikich 10 \nRegister now!\nSikich Led Sessions
URL:https://www.sikich.com/event/2024-community-summit-north-america/
LOCATION:Henry B. Gonzalez Convention Center\, 900 E Market St\, San Antonio\, TX\, 78205\, United States
CATEGORIES:Conferences & Trade,In Person,Technology
ATTACH;FMTTYPE=image/jpeg:https://www.sikich.com/wp-content/uploads/2024/03/Community-summit-logo-white-1200x675-1.jpg
END:VEVENT
BEGIN:VEVENT
DTSTART;TZID=America/Chicago:20241017T120000
DTEND;TZID=America/Chicago:20241017T130000
DTSTAMP:20260421T102723
CREATED:20240919T172007Z
LAST-MODIFIED:20241017T202538Z
UID:24773-1729166400-1729170000@www.sikich.com
SUMMARY:2024 Yellowbook Webinar Series: Risk Disclosure for Cash and Investments
DESCRIPTION:Join us for the ninth installment of our 2024 Yellowbook Webinar Series! \nOur Sikich experts will: \n\nProvide sample disclosures\nOffer details on various investment risks\nDifferentiate between deposit and investment classifications\n\nThis event is an intermediate level training geared towards finance roles in the government industry. \nThis webinar is eligible for 1.0 CPE credit. \nREGISTER NOW >>>
URL:https://www.sikich.com/event/2024-yellowbook-webinar-series-risk-disclosure-for-cash-and-investments/
LOCATION:Virtual
CATEGORIES:Accounting,Government
END:VEVENT
END:VCALENDAR