BEGIN:VCALENDAR
VERSION:2.0
PRODID:-//Sikich - ECPv6.15.19//NONSGML v1.0//EN
CALSCALE:GREGORIAN
METHOD:PUBLISH
X-WR-CALNAME:Sikich
X-ORIGINAL-URL:https://www.sikich.com
X-WR-CALDESC:Events for Sikich
REFRESH-INTERVAL;VALUE=DURATION:PT1H
X-Robots-Tag:noindex
X-PUBLISHED-TTL:PT1H
BEGIN:VTIMEZONE
TZID:America/Chicago
BEGIN:DAYLIGHT
TZOFFSETFROM:-0600
TZOFFSETTO:-0500
TZNAME:CDT
DTSTART:20230312T080000
END:DAYLIGHT
BEGIN:STANDARD
TZOFFSETFROM:-0500
TZOFFSETTO:-0600
TZNAME:CST
DTSTART:20231105T070000
END:STANDARD
BEGIN:DAYLIGHT
TZOFFSETFROM:-0600
TZOFFSETTO:-0500
TZNAME:CDT
DTSTART:20240310T080000
END:DAYLIGHT
BEGIN:STANDARD
TZOFFSETFROM:-0500
TZOFFSETTO:-0600
TZNAME:CST
DTSTART:20241103T070000
END:STANDARD
BEGIN:DAYLIGHT
TZOFFSETFROM:-0600
TZOFFSETTO:-0500
TZNAME:CDT
DTSTART:20250309T080000
END:DAYLIGHT
BEGIN:STANDARD
TZOFFSETFROM:-0500
TZOFFSETTO:-0600
TZNAME:CST
DTSTART:20251102T070000
END:STANDARD
END:VTIMEZONE
BEGIN:VEVENT
DTSTART;TZID=America/Chicago:20241002T120000
DTEND;TZID=America/Chicago:20241002T130000
DTSTAMP:20260421T085442
CREATED:20240820T192231Z
LAST-MODIFIED:20240820T192540Z
UID:24281-1727870400-1727874000@www.sikich.com
SUMMARY:Strategic Site Selection: Leveraging Tax Credits for Business Growth
DESCRIPTION:Every opportunity to optimize costs and drive growth is crucial in today’s business environment. Join Sikich’s Jenny Massey and Sabrina Champagne as they explore the strategic importance of site selection and discuss how discretionary and statutory credits work in tandem to maximize tax savings. \n\nYou’ll walk away with an understanding of: \n\n\nFactors influencing site selection decisions and the importance of aligning these decisions with business objectives\nTypes of specific tax credits related to site selection and an overview of various tax credits available for businesses\nCriteria for evaluating potential sites and how to assess the availability and impact of different locations\nHow to apply for these tax credits and tips for successfully overcoming common challenges\n\nREGISTER NOW >>>
URL:https://www.sikich.com/event/strategic-site-selection-leveraging-tax-credits-for-business-growth/
LOCATION:Virtual
CATEGORIES:Webinar
ATTACH;FMTTYPE=image/png:https://www.sikich.com/wp-content/uploads/2024/08/Untitled-design-5.png
END:VEVENT
END:VCALENDAR