BEGIN:VCALENDAR
VERSION:2.0
PRODID:-//Sikich - ECPv6.15.19//NONSGML v1.0//EN
CALSCALE:GREGORIAN
METHOD:PUBLISH
X-ORIGINAL-URL:https://www.sikich.com
X-WR-CALDESC:Events for Sikich
REFRESH-INTERVAL;VALUE=DURATION:PT1H
X-Robots-Tag:noindex
X-PUBLISHED-TTL:PT1H
BEGIN:VTIMEZONE
TZID:America/New_York
BEGIN:DAYLIGHT
TZOFFSETFROM:-0500
TZOFFSETTO:-0400
TZNAME:EDT
DTSTART:20230312T070000
END:DAYLIGHT
BEGIN:STANDARD
TZOFFSETFROM:-0400
TZOFFSETTO:-0500
TZNAME:EST
DTSTART:20231105T060000
END:STANDARD
BEGIN:DAYLIGHT
TZOFFSETFROM:-0500
TZOFFSETTO:-0400
TZNAME:EDT
DTSTART:20240310T070000
END:DAYLIGHT
BEGIN:STANDARD
TZOFFSETFROM:-0400
TZOFFSETTO:-0500
TZNAME:EST
DTSTART:20241103T060000
END:STANDARD
BEGIN:DAYLIGHT
TZOFFSETFROM:-0500
TZOFFSETTO:-0400
TZNAME:EDT
DTSTART:20250309T070000
END:DAYLIGHT
BEGIN:STANDARD
TZOFFSETFROM:-0400
TZOFFSETTO:-0500
TZNAME:EST
DTSTART:20251102T060000
END:STANDARD
END:VTIMEZONE
BEGIN:VEVENT
DTSTART;TZID=America/New_York:20240925T090000
DTEND;TZID=America/New_York:20240925T163000
DTSTAMP:20260421T084553
CREATED:20240823T140821Z
LAST-MODIFIED:20240827T151424Z
UID:24345-1727254800-1727281800@www.sikich.com
SUMMARY:Summit NA Roadshow - Atlanta
DESCRIPTION:Community Summit NA is hitting the road for a Roadshow in Atlanta! Join Sikich on Wednesday\, September 25th for an exciting user group meeting you won’t want to miss. This local event is open to all Microsoft Business application users and is entirely free of charge. \nThe day begins at 9 a.m. and runs through 4:30 p.m.\, featuring the latest developments in Business Apps. You’ll have access to educational sessions led by user experts tailored to each product\, hands-on training with practical tips and tutorials\, and opportunities to connect with fellow users and top sponsors showcasing cutting-edge solutions. \nMake sure to attend the session led by Sikich from 11:15 a.m. to 11:45 a.m. in the “FO” room\, where Microsoft Dynamics 365 Finance & Supply Chain Management users will gather. During this session you’ll hear from Darin Morrow\, Chief Transformation Officer at Honey Baked Ham\, who will share insights from the company’s digital transformation journey. This is a unique opportunity to learn how an industry leader is leveraging Microsoft technology to drive business success. \nRegister Today!
URL:https://www.sikich.com/event/summit-na-roadshow-atlanta/
LOCATION:Microsoft Office – Atlanta\, 200 17th St NW\, Atlanta\, GA\, 30363\, United States
CATEGORIES:In Person,Technology
ATTACH;FMTTYPE=image/jpeg:https://www.sikich.com/wp-content/uploads/2024/08/Community-summit-roadshow-logo-2.jpg
END:VEVENT
END:VCALENDAR