BEGIN:VCALENDAR
VERSION:2.0
PRODID:-//Sikich - ECPv6.15.19//NONSGML v1.0//EN
CALSCALE:GREGORIAN
METHOD:PUBLISH
X-WR-CALNAME:Sikich
X-ORIGINAL-URL:https://www.sikich.com
X-WR-CALDESC:Events for Sikich
REFRESH-INTERVAL;VALUE=DURATION:PT1H
X-Robots-Tag:noindex
X-PUBLISHED-TTL:PT1H
BEGIN:VTIMEZONE
TZID:America/Chicago
BEGIN:DAYLIGHT
TZOFFSETFROM:-0600
TZOFFSETTO:-0500
TZNAME:CDT
DTSTART:20230312T080000
END:DAYLIGHT
BEGIN:STANDARD
TZOFFSETFROM:-0500
TZOFFSETTO:-0600
TZNAME:CST
DTSTART:20231105T070000
END:STANDARD
BEGIN:DAYLIGHT
TZOFFSETFROM:-0600
TZOFFSETTO:-0500
TZNAME:CDT
DTSTART:20240310T080000
END:DAYLIGHT
BEGIN:STANDARD
TZOFFSETFROM:-0500
TZOFFSETTO:-0600
TZNAME:CST
DTSTART:20241103T070000
END:STANDARD
BEGIN:DAYLIGHT
TZOFFSETFROM:-0600
TZOFFSETTO:-0500
TZNAME:CDT
DTSTART:20250309T080000
END:DAYLIGHT
BEGIN:STANDARD
TZOFFSETFROM:-0500
TZOFFSETTO:-0600
TZNAME:CST
DTSTART:20251102T070000
END:STANDARD
END:VTIMEZONE
BEGIN:VEVENT
DTSTART;TZID=America/Chicago:20240924T080000
DTEND;TZID=America/Chicago:20240924T090000
DTSTAMP:20260421T090342
CREATED:20240905T195653Z
LAST-MODIFIED:20240905T204147Z
UID:24536-1727164800-1727168400@www.sikich.com
SUMMARY:Employee Retention Credit Update: Is My Claim Valid?
DESCRIPTION:Join us Tuesday\, September 24 for a one-hour webinar\, where our experts will cover the latest from the IRS on the ERC and second VDP\, discuss criteria of eligible ERC claims and more. The Sikich tax experts will guide you on amending faulty ERC claims and provide tips if you’ve received a recapture letter and explore options for taxpayers in relation to their ERC claim. \nREGISTER NOW >>>
URL:https://www.sikich.com/event/employee-retention-credit-update-is-my-claim-valid/
LOCATION:Virtual
CATEGORIES:Tax
END:VEVENT
END:VCALENDAR