BEGIN:VCALENDAR
VERSION:2.0
PRODID:-//Sikich - ECPv6.15.19//NONSGML v1.0//EN
CALSCALE:GREGORIAN
METHOD:PUBLISH
X-ORIGINAL-URL:https://www.sikich.com
X-WR-CALDESC:Events for Sikich
REFRESH-INTERVAL;VALUE=DURATION:PT1H
X-Robots-Tag:noindex
X-PUBLISHED-TTL:PT1H
BEGIN:VTIMEZONE
TZID:America/Chicago
BEGIN:DAYLIGHT
TZOFFSETFROM:-0600
TZOFFSETTO:-0500
TZNAME:CDT
DTSTART:20230312T080000
END:DAYLIGHT
BEGIN:STANDARD
TZOFFSETFROM:-0500
TZOFFSETTO:-0600
TZNAME:CST
DTSTART:20231105T070000
END:STANDARD
BEGIN:DAYLIGHT
TZOFFSETFROM:-0600
TZOFFSETTO:-0500
TZNAME:CDT
DTSTART:20240310T080000
END:DAYLIGHT
BEGIN:STANDARD
TZOFFSETFROM:-0500
TZOFFSETTO:-0600
TZNAME:CST
DTSTART:20241103T070000
END:STANDARD
BEGIN:DAYLIGHT
TZOFFSETFROM:-0600
TZOFFSETTO:-0500
TZNAME:CDT
DTSTART:20250309T080000
END:DAYLIGHT
BEGIN:STANDARD
TZOFFSETFROM:-0500
TZOFFSETTO:-0600
TZNAME:CST
DTSTART:20251102T070000
END:STANDARD
END:VTIMEZONE
BEGIN:VEVENT
DTSTART;VALUE=DATE:20240915
DTEND;VALUE=DATE:20240919
DTSTAMP:20260421T084446
CREATED:20240715T165821Z
LAST-MODIFIED:20240806T201320Z
UID:23703-1726358400-1726703999@www.sikich.com
SUMMARY:IEDC Conference 2024
DESCRIPTION:Make plans to attend the 2024 IEDC Annual Conference in Denver\, CO\, from September 15-18. This event gathers the world’s most innovative and influential economic development practitioners and thought leaders. The conference will provide a unique platform to elevate the economic development profession and showcase the transformative work of economic development professionals. \nBe sure to visit Sikich’s booth #100 at IEDC and explore opportunities to enhance your community’s economic development. Chat with our expert about the Cloud Nine Economic Development™ platform\, built for Microsoft Dynamics CRM\, a solution designed to address the discrete needs of EDOs. Hear about how innovative technology\, all managed in one intelligent system\, can help your community grow its local economy\, develop the workforce\, and attract new businesses and jobs. \nSikich representation: Jordan Gilley
URL:https://www.sikich.com/event/iedc-conference-2024/
LOCATION:Hyatt Regency at the Colorado Convention Center\, 650 15th St\,\, Denver\, CO\, 80202
CATEGORIES:Conferences & Trade,Technology
ATTACH;FMTTYPE=image/jpeg:https://www.sikich.com/wp-content/uploads/2024/07/devener_CO_skyline.jpg
END:VEVENT
END:VCALENDAR