BEGIN:VCALENDAR
VERSION:2.0
PRODID:-//Sikich - ECPv6.15.19//NONSGML v1.0//EN
CALSCALE:GREGORIAN
METHOD:PUBLISH
X-WR-CALNAME:Sikich
X-ORIGINAL-URL:https://www.sikich.com
X-WR-CALDESC:Events for Sikich
REFRESH-INTERVAL;VALUE=DURATION:PT1H
X-Robots-Tag:noindex
X-PUBLISHED-TTL:PT1H
BEGIN:VTIMEZONE
TZID:America/Chicago
BEGIN:DAYLIGHT
TZOFFSETFROM:-0600
TZOFFSETTO:-0500
TZNAME:CDT
DTSTART:20230312T080000
END:DAYLIGHT
BEGIN:STANDARD
TZOFFSETFROM:-0500
TZOFFSETTO:-0600
TZNAME:CST
DTSTART:20231105T070000
END:STANDARD
BEGIN:DAYLIGHT
TZOFFSETFROM:-0600
TZOFFSETTO:-0500
TZNAME:CDT
DTSTART:20240310T080000
END:DAYLIGHT
BEGIN:STANDARD
TZOFFSETFROM:-0500
TZOFFSETTO:-0600
TZNAME:CST
DTSTART:20241103T070000
END:STANDARD
BEGIN:DAYLIGHT
TZOFFSETFROM:-0600
TZOFFSETTO:-0500
TZNAME:CDT
DTSTART:20250309T080000
END:DAYLIGHT
BEGIN:STANDARD
TZOFFSETFROM:-0500
TZOFFSETTO:-0600
TZNAME:CST
DTSTART:20251102T070000
END:STANDARD
END:VTIMEZONE
BEGIN:VEVENT
DTSTART;TZID=America/Chicago:20240910T110000
DTEND;TZID=America/Chicago:20240910T120000
DTSTAMP:20260421T084247
CREATED:20240822T142013Z
LAST-MODIFIED:20240822T142013Z
UID:24317-1725966000-1725969600@www.sikich.com
SUMMARY:3 Ways TMS Automation with MS Dynamics 365 Drives Value
DESCRIPTION:If you’re looking for reasons to add LTL to your mix or ways to optimize your parcel and LTL operations\, you don’t want to miss this webinar. Shannon Vaillancourt\, RateLinx CEO and 30-year logistics veteran\, and Sikich’s Scott Adams\, Senior Solutions Architect\, and Evan Miller\, Senior Consultant\, have not only given advice to SMB and Fortune 1000 manufacturers and distributors and know what you should do\, they also know the shipping pitfalls to avoid when you have a parcel and LTL mode mix. \nIn this webinar\, learn how ShipLinx TMS’s automations turbocharge the power of Microsoft Dynamics 365 to save you time and provide you with more accurate insights into your parcel and LTL planning and execution: \n\nFlexibility to have separate processes for singles\, batch\, multi-line\, non-packer traditional\, and mobile non-packer.\nRate Shopping Parcel and LTL Carriers in One Place for inbound\, outbound\, and 3rd party.\nSeamless integration with Microsoft Dynamics 365\, even with upgrades.\n\nRegister now!
URL:https://www.sikich.com/event/3-ways-tms-automation-with-ms-dynamics-365-drives-value/
LOCATION:PA
CATEGORIES:Technology,Webinar
ATTACH;FMTTYPE=image/jpeg:https://www.sikich.com/wp-content/uploads/2024/08/logo.jpeg
END:VEVENT
END:VCALENDAR