BEGIN:VCALENDAR
VERSION:2.0
PRODID:-//Sikich - ECPv6.15.19//NONSGML v1.0//EN
CALSCALE:GREGORIAN
METHOD:PUBLISH
X-WR-CALNAME:Sikich
X-ORIGINAL-URL:https://www.sikich.com
X-WR-CALDESC:Events for Sikich
REFRESH-INTERVAL;VALUE=DURATION:PT1H
X-Robots-Tag:noindex
X-PUBLISHED-TTL:PT1H
BEGIN:VTIMEZONE
TZID:America/Chicago
BEGIN:DAYLIGHT
TZOFFSETFROM:-0600
TZOFFSETTO:-0500
TZNAME:CDT
DTSTART:20230312T080000
END:DAYLIGHT
BEGIN:STANDARD
TZOFFSETFROM:-0500
TZOFFSETTO:-0600
TZNAME:CST
DTSTART:20231105T070000
END:STANDARD
BEGIN:DAYLIGHT
TZOFFSETFROM:-0600
TZOFFSETTO:-0500
TZNAME:CDT
DTSTART:20240310T080000
END:DAYLIGHT
BEGIN:STANDARD
TZOFFSETFROM:-0500
TZOFFSETTO:-0600
TZNAME:CST
DTSTART:20241103T070000
END:STANDARD
BEGIN:DAYLIGHT
TZOFFSETFROM:-0600
TZOFFSETTO:-0500
TZNAME:CDT
DTSTART:20250309T080000
END:DAYLIGHT
BEGIN:STANDARD
TZOFFSETFROM:-0500
TZOFFSETTO:-0600
TZNAME:CST
DTSTART:20251102T070000
END:STANDARD
END:VTIMEZONE
BEGIN:VEVENT
DTSTART;VALUE=DATE:20240813
DTEND;VALUE=DATE:20240816
DTSTAMP:20260421T102635
CREATED:20240715T163523Z
LAST-MODIFIED:20240715T163611Z
UID:23690-1723507200-1723766399@www.sikich.com
SUMMARY:2024 USET Tribal Best Practices Conference
DESCRIPTION:United South Eastern Tribes (USET) presents an integrated approach to Tribal Sovereignty and Self-determination through the programmatic lens of the Offices of Environmental Resource Management\, Economic Development\, and Tribal Public Health. The Tribal Best Practices conference hosts learning sessions for Tribal Leadership and staff to engage in a collaborative setting to share knowledge\, wisdom\, and innovation to enhance collective strength and impact. \nDuring the session\, Integrating New Technologies in Economic Development Work\, Sikich CRM experts will walk through an in-depth exploration of how Tribal Nations can leverage the Cloud Nine Economic Development Accelerator (EDO) built on Microsoft’s Dynamics 365 CRM (Customer Relationship Management) in the cloud. The presentation will also explain how Dynamics 365 uses an AI-powered sales tool\, Copilot\, to enhance business processes and strengthen community ties. Attendees will hear first-hand from USET\, how these technologies have improved day-to-day activities\, managing relationships\, and overall organization visibility. \nThis session is designed to help Tribal Leadership and staff members understand and implement these powerful tools\, fostering improved organizational efficiency and inter-tribal collaboration. \nSikich session speakers: Jordan Gilley and Anthony Senevey
URL:https://www.sikich.com/event/2024-uset-tribal-best-practices-conference/
LOCATION:Sheraton Music City Nashville Airport Hotel\, 777 McGavock Pike\, Nashville\, TN\, 37214
CATEGORIES:In Person,Technology
ATTACH;FMTTYPE=image/jpeg:https://www.sikich.com/wp-content/uploads/2024/07/nature_sunset_eastern_US.jpg
END:VEVENT
END:VCALENDAR