BEGIN:VCALENDAR
VERSION:2.0
PRODID:-//Sikich - ECPv6.15.19//NONSGML v1.0//EN
CALSCALE:GREGORIAN
METHOD:PUBLISH
X-ORIGINAL-URL:https://www.sikich.com
X-WR-CALDESC:Events for Sikich
REFRESH-INTERVAL;VALUE=DURATION:PT1H
X-Robots-Tag:noindex
X-PUBLISHED-TTL:PT1H
BEGIN:VTIMEZONE
TZID:America/Chicago
BEGIN:DAYLIGHT
TZOFFSETFROM:-0600
TZOFFSETTO:-0500
TZNAME:CDT
DTSTART:20230312T080000
END:DAYLIGHT
BEGIN:STANDARD
TZOFFSETFROM:-0500
TZOFFSETTO:-0600
TZNAME:CST
DTSTART:20231105T070000
END:STANDARD
BEGIN:DAYLIGHT
TZOFFSETFROM:-0600
TZOFFSETTO:-0500
TZNAME:CDT
DTSTART:20240310T080000
END:DAYLIGHT
BEGIN:STANDARD
TZOFFSETFROM:-0500
TZOFFSETTO:-0600
TZNAME:CST
DTSTART:20241103T070000
END:STANDARD
BEGIN:DAYLIGHT
TZOFFSETFROM:-0600
TZOFFSETTO:-0500
TZNAME:CDT
DTSTART:20250309T080000
END:DAYLIGHT
BEGIN:STANDARD
TZOFFSETFROM:-0500
TZOFFSETTO:-0600
TZNAME:CST
DTSTART:20251102T070000
END:STANDARD
END:VTIMEZONE
BEGIN:VEVENT
DTSTART;TZID=America/Chicago:20240515T120000
DTEND;TZID=America/Chicago:20240515T130000
DTSTAMP:20260422T003848
CREATED:20240423T173217Z
LAST-MODIFIED:20240514T122526Z
UID:21464-1715774400-1715778000@www.sikich.com
SUMMARY:2024 Yellowbook Series: Capital Assets
DESCRIPTION:Join us for the fourth installment of our 2024 Yellowbook Webinar Series! \nIn this session on Capital Assets\, our government finance experts will cover: \n\nThe definition of and various types of capital assets\nKey components that should be included in your capital asset policy\nHow to determine asset valuation\nAccounting treatment for depreciation/amortization and impairments\n\nThis event is an intermediate level training geared towards finance roles in the government industry and qualifies for 1.0 CPE. \nREGISTER NOW >>>
URL:https://www.sikich.com/event/2024-yellowbook-series-capital-assets/
LOCATION:Virtual
CATEGORIES:Government,Virtual,Webinar
ATTACH;FMTTYPE=image/png:https://www.sikich.com/wp-content/uploads/2024/04/Events-2-Gov-Leases.png
END:VEVENT
END:VCALENDAR