BEGIN:VCALENDAR
VERSION:2.0
PRODID:-//Sikich - ECPv6.15.19//NONSGML v1.0//EN
CALSCALE:GREGORIAN
METHOD:PUBLISH
X-ORIGINAL-URL:https://www.sikich.com
X-WR-CALDESC:Events for Sikich
REFRESH-INTERVAL;VALUE=DURATION:PT1H
X-Robots-Tag:noindex
X-PUBLISHED-TTL:PT1H
BEGIN:VTIMEZONE
TZID:America/Chicago
BEGIN:DAYLIGHT
TZOFFSETFROM:-0600
TZOFFSETTO:-0500
TZNAME:CDT
DTSTART:20230312T080000
END:DAYLIGHT
BEGIN:STANDARD
TZOFFSETFROM:-0500
TZOFFSETTO:-0600
TZNAME:CST
DTSTART:20231105T070000
END:STANDARD
BEGIN:DAYLIGHT
TZOFFSETFROM:-0600
TZOFFSETTO:-0500
TZNAME:CDT
DTSTART:20240310T080000
END:DAYLIGHT
BEGIN:STANDARD
TZOFFSETFROM:-0500
TZOFFSETTO:-0600
TZNAME:CST
DTSTART:20241103T070000
END:STANDARD
BEGIN:DAYLIGHT
TZOFFSETFROM:-0600
TZOFFSETTO:-0500
TZNAME:CDT
DTSTART:20250309T080000
END:DAYLIGHT
BEGIN:STANDARD
TZOFFSETFROM:-0500
TZOFFSETTO:-0600
TZNAME:CST
DTSTART:20251102T070000
END:STANDARD
END:VTIMEZONE
BEGIN:VEVENT
DTSTART;TZID=America/Chicago:20240509T120000
DTEND;TZID=America/Chicago:20240509T130000
DTSTAMP:20260422T003847
CREATED:20240322T135323Z
LAST-MODIFIED:20240418T211346Z
UID:17407-1715256000-1715259600@www.sikich.com
SUMMARY:Building a Dream Team: Utilizing Assessments To Elevate Talent
DESCRIPTION:Utilizing assessments in the hiring process can uncover valuable insights into a candidate’s abilities\, skills\, motivators\, and unique traits and result in more informed hiring decisions. Join Sikich’s Talent experts as they explore the strategic role assessments play in the selection process and provide practical applications for leveraging assessments within your organization. \nIn this one-hour webinar\, you’ll: \n\nGain insights into the benefits of assessments in the selection & hiring process\nDebunk common misconceptions surrounding assessments\nUnderstand the variety of assessments and their suitability for different roles\, to create high performing cultures that drive results\nDiscuss how to utilize assessments while minimizing the risk of adverse impact\nLearn to leverage pre-hire assessment data post-hire to enhance the onboarding process\n\nWho Will Benefit: \n\nBusiness & HR Leaders\nRecruiters & Talent Acquisition Professionals\nManagers & Supervisors responsible for hiring decisions\n\n\nRegister Now >>>
URL:https://www.sikich.com/event/building-a-dream-team-utilizing-assessments-to-elevate-talent/
LOCATION:Virtual
CATEGORIES:Human Resources,Virtual,Webinar
ATTACH;FMTTYPE=image/png:https://www.sikich.com/wp-content/uploads/2024/03/Events-2-Dream-Team.png
END:VEVENT
END:VCALENDAR