BEGIN:VCALENDAR
VERSION:2.0
PRODID:-//Sikich - ECPv6.15.19//NONSGML v1.0//EN
CALSCALE:GREGORIAN
METHOD:PUBLISH
X-ORIGINAL-URL:https://www.sikich.com
X-WR-CALDESC:Events for Sikich
REFRESH-INTERVAL;VALUE=DURATION:PT1H
X-Robots-Tag:noindex
X-PUBLISHED-TTL:PT1H
BEGIN:VTIMEZONE
TZID:America/New_York
BEGIN:DAYLIGHT
TZOFFSETFROM:-0500
TZOFFSETTO:-0400
TZNAME:EDT
DTSTART:20230312T070000
END:DAYLIGHT
BEGIN:STANDARD
TZOFFSETFROM:-0400
TZOFFSETTO:-0500
TZNAME:EST
DTSTART:20231105T060000
END:STANDARD
BEGIN:DAYLIGHT
TZOFFSETFROM:-0500
TZOFFSETTO:-0400
TZNAME:EDT
DTSTART:20240310T070000
END:DAYLIGHT
BEGIN:STANDARD
TZOFFSETFROM:-0400
TZOFFSETTO:-0500
TZNAME:EST
DTSTART:20241103T060000
END:STANDARD
BEGIN:DAYLIGHT
TZOFFSETFROM:-0500
TZOFFSETTO:-0400
TZNAME:EDT
DTSTART:20250309T070000
END:DAYLIGHT
BEGIN:STANDARD
TZOFFSETFROM:-0400
TZOFFSETTO:-0500
TZNAME:EST
DTSTART:20251102T060000
END:STANDARD
END:VTIMEZONE
BEGIN:VEVENT
DTSTART;TZID=America/New_York:20240502T090000
DTEND;TZID=America/New_York:20240502T150000
DTSTAMP:20260421T141931
CREATED:20240322T134943Z
LAST-MODIFIED:20240418T211451Z
UID:17405-1714640400-1714662000@www.sikich.com
SUMMARY:Microsoft Dynamics 365 Business Central or FSCM: Which is Right for Me?
DESCRIPTION:Are you currently evaluating a new ERP system or considering a transition from your current Microsoft ERP product to the cloud? Join our Dynamics 365 webinar to learn which Dynamics ERP option is best for your organization. \nBoth Microsoft Dynamics 365 Business Central and D365 Finance and Supply Chain Management (formerly Finance & Operations) stand out as superior cloud ERPs. Discover which one aligns with your business needs by joining us on May 2\, 2024 for an insightful webinar hosted by MSDW. Our Dynamics product experts will guide you through the decision-making process and help you determine the ideal solution for your requirements. \nIn this session\, you will: \n\nGain insights into licensing and cost considerations\nLearn how an AIM assessment brings clarity to upgrade decisions\nExplore how each solution utilizes Microsoft’s Power Platform to enhance productivity\nHave the opportunity to pose your most challenging cloud ERP questions to our experts\n\nBe sure not to miss this informative webinar if you are currently in the process of evaluating ERP solutions and wish to explore what Dynamics 365 solutions can offer your business! \nPresenters: \n– Debbie Altham\, Senior Director\, Enterprise Technology\, Sikich\n– Mike Loumeau\, Senior Account Executive\, Sikich\n– Rob Dowsett\, Partner\, Enterprise Technology\, Sikich \nMay 02\, 2024\n9:00 AM EDT | 12:00 PM EDT | 03:00 PM EDT \nRegister now!
URL:https://www.sikich.com/event/microsoft-dynamics-365-business-central-or-fscm-which-is-right-for-me/
LOCATION:Virtual
CATEGORIES:Technology,Webinar
ATTACH;FMTTYPE=image/png:https://www.sikich.com/wp-content/uploads/2024/03/Events-3-Dynamics-Event.png
END:VEVENT
END:VCALENDAR